BEGIN:VCALENDAR
VERSION:2.0
PRODID:-//Octubre Centre de Cultura Contemporània - ECPv5.1.6//NONSGML v1.0//EN
CALSCALE:GREGORIAN
METHOD:PUBLISH
X-WR-CALNAME:Octubre Centre de Cultura Contemporània
X-ORIGINAL-URL:https://octubre.cat
X-WR-CALDESC:Events for Octubre Centre de Cultura Contemporània
BEGIN:VTIMEZONE
TZID:Europe/Andorra
BEGIN:DAYLIGHT
TZOFFSETFROM:+0100
TZOFFSETTO:+0200
TZNAME:CEST
DTSTART:20230326T010000
END:DAYLIGHT
BEGIN:STANDARD
TZOFFSETFROM:+0200
TZOFFSETTO:+0100
TZNAME:CET
DTSTART:20231029T010000
END:STANDARD
END:VTIMEZONE
BEGIN:VEVENT
DTSTART;TZID=Europe/Andorra:20230216T190000
DTEND;TZID=Europe/Andorra:20230216T190000
DTSTAMP:20260421T121752
CREATED:20221129T101438Z
LAST-MODIFIED:20250710T081739Z
UID:19138-1676574000-1676574000@octubre.cat
SUMMARY:Presentació del llibre Noves glòries a Espanya\, de Vicent Flor
DESCRIPTION:Anticatalanisme i identitat valenciana (2a edició).\nTrobada i conversa amb el sociòleg i autor\, Vicent Flor; la lingüista i diputada a les Corts Valencianes\, Nathalie Torres; el periodista Miquel Ramos i l’editor Vicent Olmos. \nPer què una majoria de valencians se senten molt allunyats de Catalunya i dels catalans? Per què la societat valenciana presenta un dels índexs més alts d’espanyolisme? Com hi ha influït l’anticatalanisme? Fins a quin punt ha esdevingut hegemònic i ha condicionat els principals partits polítics? Quin paper ha tingut el «blaverisme» en la conformació de la identitat valenciana actual? Tot i que s’infravalorà durant la transició democràtica —cosa de «quatre gats»\, en deien—\, al capdavall va condicionar el sistema polític valencià d’una manera decisiva. Aquest assaig\, resultat de la tesi doctoral «L’anticatalanisme al País Valencià: identitat i reproducció social del discurs del ‘blaverisme’»\, ofereix didàcticament un panorama des de les ciències socials per fer entendre les complexes relacions entre el País Valencià i Catalunya i entre els mateixos valencians. Així s’estudia —sense caure en explicacions simplistes— la reeixida penetració social d’aquest regionalisme anticatalanista gràcies\, entre d’altres\, a influents mitjans de comunicació\, a una particular estructura associativa\, a la instrumentalització de símbols\, festes\, rituals i identitats prèvies\, així com també al regionalisme banal de la Generalitat Valenciana. L’autor reflexiona sobre les claus d’aquest procés i analitza els principals trets d’aquest discurs populista\, conservador\, regionalista\, anticatalanista i espanyolista. \n  \n \n(Afers)
URL:https://octubre.cat/activitat/presentacio-del-llibre-noves-glories-a-espanya-de-vicent-flor/
LOCATION:Llibreria Fan Set
CATEGORIES:Literatura
ATTACH;FMTTYPE=image/jpeg:https://octubre.cat/www/wp-content/uploads/2021/12/vicent-flor.jpg
END:VEVENT
END:VCALENDAR