BEGIN:VCALENDAR
VERSION:2.0
PRODID:-//Octubre Centre de Cultura Contemporània - ECPv5.1.6//NONSGML v1.0//EN
CALSCALE:GREGORIAN
METHOD:PUBLISH
X-WR-CALNAME:Octubre Centre de Cultura Contemporània
X-ORIGINAL-URL:https://octubre.cat
X-WR-CALDESC:Events for Octubre Centre de Cultura Contemporània
BEGIN:VTIMEZONE
TZID:Europe/Andorra
BEGIN:DAYLIGHT
TZOFFSETFROM:+0100
TZOFFSETTO:+0200
TZNAME:CEST
DTSTART:20180325T010000
END:DAYLIGHT
BEGIN:STANDARD
TZOFFSETFROM:+0200
TZOFFSETTO:+0100
TZNAME:CET
DTSTART:20181028T010000
END:STANDARD
END:VTIMEZONE
BEGIN:VEVENT
DTSTART;TZID=Europe/Andorra:20180819T190000
DTEND;TZID=Europe/Andorra:20180819T190000
DTSTAMP:20260421T175036
CREATED:20200729T173111Z
LAST-MODIFIED:20200729T190913Z
UID:11253-1534705200-1534705200@octubre.cat
SUMMARY:Presentació del llibre "Nou homenatge a Catalunya"\, de Vicent Partal
DESCRIPTION:Dimecres 19 de setembre a les 19.00h.	 \n  \n  \n\n 	 Durant l’última dècada\, Catalunya ha protagonitzat una epopeia única en la història contemporània d’Europa. Un país que s’ha organitzat de manera pacient\, constant\, imaginativa i coratjosa per proposar per vies pacífiques la independència d’un estat disposat a usar la repressió i la violència per impedir-ho. Res no ha estat fàcil\, però els èxits aconseguits són notables. En termes polítics\, amb la proclamació d’una República que només necessita temps per créixer. En termes socials\, generant un moviment emocionant que ha canviat ja\, per a bé\, el país des de la base. El gran relat d’aquest moviment no es pot escriure sense la petita història dels seus protagonistes\, i això és el que Vicent Partal\, observador audaç\, fa en aquest Nou homenatge a Catalunya. Amb informació que no havia vist la llum fins ara i el pòsit de reflexió que dóna l’experiència\, explica les claus que han fet possible tot el que ha passat i que anuncien el que pot ocórrer a partir d’ara. El resultat és un llibre ambiciós\, cridat a ser un document clau d’aquest període de la nostra història tan apassionant com esperançador.  (Ara Llibres)
URL:https://octubre.cat/activitat/presentacio-del-llibre-nou-homenatge-a-catalunya-de-vicent-partal/
LOCATION:No definit
CATEGORIES:Literatura
ATTACH;FMTTYPE=image/jpeg:https://octubre.cat/www/wp-content/uploads/2020/07/activitat3093.jpg
END:VEVENT
END:VCALENDAR