BEGIN:VCALENDAR
VERSION:2.0
PRODID:-//Octubre Centre de Cultura Contemporània - ECPv5.1.6//NONSGML v1.0//EN
CALSCALE:GREGORIAN
METHOD:PUBLISH
X-WR-CALNAME:Octubre Centre de Cultura Contemporània
X-ORIGINAL-URL:https://octubre.cat
X-WR-CALDESC:Events for Octubre Centre de Cultura Contemporània
BEGIN:VTIMEZONE
TZID:Europe/Andorra
BEGIN:DAYLIGHT
TZOFFSETFROM:+0100
TZOFFSETTO:+0200
TZNAME:CEST
DTSTART:20150329T010000
END:DAYLIGHT
BEGIN:STANDARD
TZOFFSETFROM:+0200
TZOFFSETTO:+0100
TZNAME:CET
DTSTART:20151025T010000
END:STANDARD
END:VTIMEZONE
BEGIN:VEVENT
DTSTART;TZID=Europe/Andorra:20150624T190000
DTEND;TZID=Europe/Andorra:20150624T190000
DTSTAMP:20260421T165446
CREATED:20200729T171150Z
LAST-MODIFIED:20200730T041500Z
UID:10232-1435172400-1435172400@octubre.cat
SUMMARY:Presentació del llibre 'Notícia de la tribu'\, de Marc Granell
DESCRIPTION:Dimecres 24 de juny a les 19.00h. A la llibreria 3i4\, a càrrec de Josep Antoni Fluixà i Gonçal López-Pampló.  \n  \n  \n\n (Editorial Bromera).  La presentació anirà a càrrec de Josep Antoni Fluixà i Gonçal López-Pampló.  Marc Granell és un dels poetes valencians més importants de les darreres quatre dècades. Des de la publicació de Llarg camí llarg (1977) fins a Tard o d’hora (2006)\, passant per Versos per a Anna (1998) i Corrent de fons (1999)\, entre altres\, ha esdevingut un escriptor clau\, llegit\, reconegut i estimat pels seus contemporanis\, tant en els llibres per a adults com en la poesia infantil. A més a més\, Marc Granell ha estat un autèntic referent per als poetes joves\, generació rere generació. Aquesta antologia recull els seus poemes més representatius (tant per a adults com per a infants i joves) i els posa en relació amb el conjunt de la literatura actual.
URL:https://octubre.cat/activitat/presentacio-del-llibre-noticia-de-la-tribu-de-marc-granell/
LOCATION:Llibreria 3i4
CATEGORIES:Literatura
ATTACH;FMTTYPE=image/jpeg:https://octubre.cat/www/wp-content/uploads/2020/07/activitat2353.jpg
END:VEVENT
END:VCALENDAR