BEGIN:VCALENDAR
VERSION:2.0
PRODID:-//Octubre Centre de Cultura Contemporània - ECPv5.1.6//NONSGML v1.0//EN
CALSCALE:GREGORIAN
METHOD:PUBLISH
X-WR-CALNAME:Octubre Centre de Cultura Contemporània
X-ORIGINAL-URL:https://octubre.cat
X-WR-CALDESC:Events for Octubre Centre de Cultura Contemporània
BEGIN:VTIMEZONE
TZID:Europe/Andorra
BEGIN:DAYLIGHT
TZOFFSETFROM:+0100
TZOFFSETTO:+0200
TZNAME:CEST
DTSTART:20150329T010000
END:DAYLIGHT
BEGIN:STANDARD
TZOFFSETFROM:+0200
TZOFFSETTO:+0100
TZNAME:CET
DTSTART:20151025T010000
END:STANDARD
END:VTIMEZONE
BEGIN:VEVENT
DTSTART;TZID=Europe/Andorra:20150324T190000
DTEND;TZID=Europe/Andorra:20150324T190000
DTSTAMP:20260421T232620
CREATED:20200729T170951Z
LAST-MODIFIED:20200730T041411Z
UID:10104-1427223600-1427223600@octubre.cat
SUMMARY:Presentació del llibre ' Nord'\, de Manuel Bellver
DESCRIPTION:Dimarts 24 de març a les 19.00h. A càrrec de Manel Rodríguez-Castelló  \n  \n  \n\n (Pagès Ed.)  Premi de Poesia Parc Taulí 2013 La presentació anirà a càrrec de Manel Rodríguez-Castelló  Un aplec de 47 poemes dividits en tres parts\, que transmeten una poesia introspectiva i essencial\, tal i com la van definir els membres del jurat del premi\, que van escollir aquesta obra com a guanyadora per àmplia majoria. Nord conté poemes poc convencionals\, lluny de la mètrica tradicional i amb estructura dispersa\, sense signes de puntuació\, però que sorprendran el lector des de la primera pàgina.  Manuel Bellver (Sagunt\, 1956) és artista plàstic i escriptor.
URL:https://octubre.cat/activitat/presentacio-del-llibre-nord-de-manuel-bellver/
LOCATION:Llibreria 3i4
CATEGORIES:Literatura
ATTACH;FMTTYPE=image/jpeg:https://octubre.cat/www/wp-content/uploads/2020/07/activitat2287.jpg
END:VEVENT
END:VCALENDAR