BEGIN:VCALENDAR
VERSION:2.0
PRODID:-//Octubre Centre de Cultura Contemporània - ECPv5.1.6//NONSGML v1.0//EN
CALSCALE:GREGORIAN
METHOD:PUBLISH
X-WR-CALNAME:Octubre Centre de Cultura Contemporània
X-ORIGINAL-URL:https://octubre.cat
X-WR-CALDESC:Events for Octubre Centre de Cultura Contemporània
BEGIN:VTIMEZONE
TZID:Europe/Andorra
BEGIN:DAYLIGHT
TZOFFSETFROM:+0100
TZOFFSETTO:+0200
TZNAME:CEST
DTSTART:20240331T010000
END:DAYLIGHT
BEGIN:STANDARD
TZOFFSETFROM:+0200
TZOFFSETTO:+0100
TZNAME:CET
DTSTART:20241027T010000
END:STANDARD
END:VTIMEZONE
BEGIN:VEVENT
DTSTART;TZID=Europe/Andorra:20240410T190000
DTEND;TZID=Europe/Andorra:20240410T190000
DTSTAMP:20260421T164033
CREATED:20240311T160515Z
LAST-MODIFIED:20250710T164934Z
UID:21055-1712775600-1712775600@octubre.cat
SUMMARY:Presentació del llibre Ni fet ni desfet. Història del nacionalisme polític valencià (1974-1998)\, de Natxo Escandell
DESCRIPTION:Una presentació-debat sobre el passat i el present del valencianisme polític amb:\n—Vicent Olmos\, editor\n—Natxo Escandell\, autor del llibre\n—Vicent Flor\, sociòleg\n—Amparo Piquer\, secretària general de Més-Compromís \nLa història del nacionalisme valencià des de la transició a la democràcia fins a la creació del Bloc Nacionalista Valencià —el partit més important de la història recent del valencianisme polític i un dels pilars de la coalició Compromís— no s’havia escrit encara. Quina ha estat l’evolució de les formacions polítiques nacionalistes al País Valencià en l’últim quart del segle XX? Hi havia espai per a un nacionalisme polític valencià? Aquestes són les preguntes que cal fer-se per començar a parlar del valencianisme polític. A “Ni fet ni desfet. Història del nacionalisme polític valencià (1974-1998)” es detallen els processos de creació dels partits nacionalistes al País Valencià\, quines foren les seues bases ideològiques\, com aquestes van ser modificades amb els anys i quins resultats electorals van obtenir a la fi del segle XX. Aquest assaig ofereix minuciosament un relat sobre l’estat actual del valencianisme polític. Amb més d’una vintena d’entrevistes\, l’autor n’estudia l’assentament territorial i se centra en els congressos i discussions al voltant de quina havia de ser la nació valenciana. \n  \n \n(Afers)
URL:https://octubre.cat/activitat/presentacio-del-llibre-ni-fet-ni-desfet-historia-del-nacionalisme-politic-valencia-1974-1998-de-natxo-escandell/
LOCATION:Llibreria Fan Set
CATEGORIES:Literatura
ATTACH;FMTTYPE=image/jpeg:https://octubre.cat/www/wp-content/uploads/2024/03/natxo-escandell.jpg
END:VEVENT
END:VCALENDAR