BEGIN:VCALENDAR
VERSION:2.0
PRODID:-//Octubre Centre de Cultura Contemporània - ECPv5.1.6//NONSGML v1.0//EN
CALSCALE:GREGORIAN
METHOD:PUBLISH
X-WR-CALNAME:Octubre Centre de Cultura Contemporània
X-ORIGINAL-URL:https://octubre.cat
X-WR-CALDESC:Events for Octubre Centre de Cultura Contemporània
BEGIN:VTIMEZONE
TZID:Europe/Andorra
BEGIN:DAYLIGHT
TZOFFSETFROM:+0100
TZOFFSETTO:+0200
TZNAME:CEST
DTSTART:20190331T010000
END:DAYLIGHT
BEGIN:STANDARD
TZOFFSETFROM:+0200
TZOFFSETTO:+0100
TZNAME:CET
DTSTART:20191027T010000
END:STANDARD
END:VTIMEZONE
BEGIN:VEVENT
DTSTART;TZID=Europe/Andorra:20190604T190000
DTEND;TZID=Europe/Andorra:20190604T190000
DTSTAMP:20260421T090503
CREATED:20200729T173408Z
LAST-MODIFIED:20200729T191143Z
UID:11438-1559674800-1559674800@octubre.cat
SUMMARY:Presentació del llibre "Naixement d'Islàndia"\, de Carles Mulet
DESCRIPTION:Dimarts 4 de juny a les 19.00h. Premi Vicent Andrés Estellés dels Premis Octubre 2018. Amb l’autor\, Isabel Robles i Marina Mulet.	 \n  \n  \n\n 	 Premi Octubre de Poesia 2018. L’acompanyaran la poeta Isabel Robles i l’actriu Marina Mulet.  Naixement d’Islàndia és el poemari guanyador del Premi Vicent Andrés Estelles del 2018. El jurat va dir\, a propòsit del recull\, que es tractava d’«un cant a l’espai en blanc\, de l’illa com a àmbit d’emancipació individual i universal». D’acord amb això\, i com ja suggereix el títol\, Naixement d’Islàndia té l’origen en un viatge a aquella illa nòrdica\, on el poeta hi va tenir la sensació d’assistir al naixement del món\, de connectar amb la pura matèria\, on covava la llavor i l’ímpetu primer de la vida.  (3i4)
URL:https://octubre.cat/activitat/presentacio-del-llibre-naixement-dislandia-de-carles-mulet/
LOCATION:Llibreria Fan Set
CATEGORIES:Literatura
ATTACH;FMTTYPE=image/jpeg:https://octubre.cat/www/wp-content/uploads/2020/07/activitat3285.jpg
END:VEVENT
END:VCALENDAR