BEGIN:VCALENDAR
VERSION:2.0
PRODID:-//Octubre Centre de Cultura Contemporània - ECPv5.1.6//NONSGML v1.0//EN
CALSCALE:GREGORIAN
METHOD:PUBLISH
X-WR-CALNAME:Octubre Centre de Cultura Contemporània
X-ORIGINAL-URL:https://octubre.cat
X-WR-CALDESC:Events for Octubre Centre de Cultura Contemporània
BEGIN:VTIMEZONE
TZID:Europe/Andorra
BEGIN:DAYLIGHT
TZOFFSETFROM:+0100
TZOFFSETTO:+0200
TZNAME:CEST
DTSTART:20170326T010000
END:DAYLIGHT
BEGIN:STANDARD
TZOFFSETFROM:+0200
TZOFFSETTO:+0100
TZNAME:CET
DTSTART:20171029T010000
END:STANDARD
END:VTIMEZONE
BEGIN:VEVENT
DTSTART;TZID=Europe/Andorra:20170118T190000
DTEND;TZID=Europe/Andorra:20170118T190000
DTSTAMP:20260420T171947
CREATED:20200729T172315Z
LAST-MODIFIED:20200729T185714Z
UID:10958-1484766000-1484766000@octubre.cat
SUMMARY:Presentació del llibre 'Na Desconeguda'\, de Manel Joan i Arinyó
DESCRIPTION:Estava prevista per al dimecres 18 de gener.  \n  \n  \n\n ATENCIÓ: AQUESTA ACTIVITAT HA ESTAT AJORNADA.  (El Petit Editor)  Un  poble  costaner  valencià.  Dècada  dels  seixanta  del  segle  XX.  Les  vivències  atrevides\,  pacífiques\,  agosarades\,  divertides\,  punyents\,  les  primeres  trobades  furtives\,  les  festes\,  els camins…  Un  jove\,  com  qualsevol  de  nosaltres\,  ens  narra els fets dels quals va ser testimoni directe i participant privilegiat. Records de passat i de futur en uns escenaris creats per la força de l’esperit i de la sang. Espais mediterranis viscuts amb intensitat.  Na Desconeguda\, una novel·la en clau autobiogràfica que combina els passatges de la vida juvenil amb l’experiència que donen els anys. Arinyó ha bastit una obra que recull l’aroma d’un temps i el sabor d’unes situacions amb les que\, d’una o altra manera\, tots\, joves i majors\, ens veiem reflectits. Això sí\, serà millor que ho lligen i ja en parlarem si tenen ganes.
URL:https://octubre.cat/activitat/presentacio-del-llibre-na-desconeguda-de-manel-joan-i-arinyo/
LOCATION:Llibreria Fan Set
CATEGORIES:Literatura
ATTACH;FMTTYPE=image/jpeg:https://octubre.cat/www/wp-content/uploads/2020/07/activitat2739.jpg
END:VEVENT
END:VCALENDAR