BEGIN:VCALENDAR
VERSION:2.0
PRODID:-//Octubre Centre de Cultura Contemporània - ECPv5.1.6//NONSGML v1.0//EN
CALSCALE:GREGORIAN
METHOD:PUBLISH
X-WR-CALNAME:Octubre Centre de Cultura Contemporània
X-ORIGINAL-URL:https://octubre.cat
X-WR-CALDESC:Events for Octubre Centre de Cultura Contemporània
BEGIN:VTIMEZONE
TZID:Europe/Andorra
BEGIN:DAYLIGHT
TZOFFSETFROM:+0100
TZOFFSETTO:+0200
TZNAME:CEST
DTSTART:20180325T010000
END:DAYLIGHT
BEGIN:STANDARD
TZOFFSETFROM:+0200
TZOFFSETTO:+0100
TZNAME:CET
DTSTART:20181028T010000
END:STANDARD
END:VTIMEZONE
BEGIN:VEVENT
DTSTART;TZID=Europe/Andorra:20180921T190000
DTEND;TZID=Europe/Andorra:20180921T190000
DTSTAMP:20260423T084524
CREATED:20200729T173109Z
LAST-MODIFIED:20200729T190911Z
UID:11252-1537556400-1537556400@octubre.cat
SUMMARY:Presentació del llibre "Matilde Escuder. Maestra libertaria y racionalista"\, de Manuel Martí Puig
DESCRIPTION:Divendres 21 de setembre a les 19.00h. Amb l’autor acompanyat per Carme Agulló i Lluís Meseguer.	 \n  \n  \n\n 	 La presentació anirà a càrrec de l’autor acompanyat per Carme Agulló (Universitat de València) i Lluís Meseguer (càtedra Soler i Godes). Amb la col·laboració de l’Associació de Dones i Homes Lliures.  Matilde Escuder Vicente (1913-2006) no ha estat prou coneguda ni difosa\, ni posada en context\, fins l’actualitat. La intensitat i la forta personalitat del pedagog aragonès Félix Carrasquer Launed\, parella seua\, eclipsen una realitat que la va acompanyar en l’evolució dels seus treballs\, i que exigeix el seu reconeixement i la seua reivindicació per la seua participació anònima i efectiva. Matilde\, com tantes altres mestres\, fou una dona que va trencar motlles i refranys. Representant singular de les dones transgressores nascudes a començament del segle XX\, la seua biografia transcorre per tots i cadascun dels espais que elles es veieren obligades recórrer: la guerra des d’una posició revolucionària\, la lluita per la supervivència en la postguerra cruel\, la vida dura en les presons franquistes\, l’exili d’un país que no acceptava les seues idees ni les seues conductes lliures\, però també la satisfacció de poder viure en i amb un grup de persones que van compartir els ideals.  Publicacions de la Universitat Jaume I / Fundació Enric Soler i Godes (UJI)
URL:https://octubre.cat/activitat/presentacio-del-llibre-matilde-escuder-maestra-libertaria-y-racionalista-de-manuel-marti-puig/
LOCATION:No definit
CATEGORIES:Literatura
ATTACH;FMTTYPE=image/jpeg:https://octubre.cat/www/wp-content/uploads/2020/07/activitat3091.jpg
END:VEVENT
END:VCALENDAR