BEGIN:VCALENDAR
VERSION:2.0
PRODID:-//Octubre Centre de Cultura Contemporània - ECPv5.1.6//NONSGML v1.0//EN
CALSCALE:GREGORIAN
METHOD:PUBLISH
X-WR-CALNAME:Octubre Centre de Cultura Contemporània
X-ORIGINAL-URL:https://octubre.cat
X-WR-CALDESC:Events for Octubre Centre de Cultura Contemporània
BEGIN:VTIMEZONE
TZID:Europe/Andorra
BEGIN:DAYLIGHT
TZOFFSETFROM:+0100
TZOFFSETTO:+0200
TZNAME:CEST
DTSTART:20150329T010000
END:DAYLIGHT
BEGIN:STANDARD
TZOFFSETFROM:+0200
TZOFFSETTO:+0100
TZNAME:CET
DTSTART:20151025T010000
END:STANDARD
END:VTIMEZONE
BEGIN:VEVENT
DTSTART;TZID=Europe/Andorra:20151216T190000
DTEND;TZID=Europe/Andorra:20151216T190000
DTSTAMP:20260421T072459
CREATED:20200729T171440Z
LAST-MODIFIED:20200730T041612Z
UID:10412-1450292400-1450292400@octubre.cat
SUMMARY:Presentació del llibre 'L'ombra del mal'\, de Lluís Miret
DESCRIPTION:Dimecres 16 de desembre a les 19.00h. Amb l’autor i el novel·lista Joanjo Garcia.  \n  \n  \n\n Premi de Novel·la Ciutat d’Alzira (Bromera). Amb l’autor i el novel·lista Joanjo Garcia.  Corre l’any 1614 quan uns bandolers perpetren un doble segrest que desencadena una successió de fets violents\, intrigues polítiques i lluites de poder amb conseqüències devastadores. No molt lluny\, un vell professor de teologia estudia uns hipotètics miracles\, mentre l’antic secretari del duc de Gandia\, acusat d’assassinat\, suplica per la seua vida. Tres trames\, en aparença independents\, que es veuran entrelligades de manera subtil però poderosa i implicaran tots els estaments de la societat valenciana de l’època.
URL:https://octubre.cat/activitat/presentacio-del-llibre-lombra-del-mal-de-lluis-miret/
LOCATION:Llibreria 3i4
CATEGORIES:Literatura
ATTACH;FMTTYPE=image/jpeg:https://octubre.cat/www/wp-content/uploads/2020/07/activitat2451.jpg
END:VEVENT
END:VCALENDAR