BEGIN:VCALENDAR
VERSION:2.0
PRODID:-//Octubre Centre de Cultura Contemporània - ECPv5.1.6//NONSGML v1.0//EN
CALSCALE:GREGORIAN
METHOD:PUBLISH
X-WR-CALNAME:Octubre Centre de Cultura Contemporània
X-ORIGINAL-URL:https://octubre.cat
X-WR-CALDESC:Events for Octubre Centre de Cultura Contemporània
BEGIN:VTIMEZONE
TZID:Europe/Andorra
BEGIN:DAYLIGHT
TZOFFSETFROM:+0100
TZOFFSETTO:+0200
TZNAME:CEST
DTSTART:20240331T010000
END:DAYLIGHT
BEGIN:STANDARD
TZOFFSETFROM:+0200
TZOFFSETTO:+0100
TZNAME:CET
DTSTART:20241027T010000
END:STANDARD
END:VTIMEZONE
BEGIN:VEVENT
DTSTART;TZID=Europe/Andorra:20240412T190000
DTEND;TZID=Europe/Andorra:20240412T190000
DTSTAMP:20260421T132300
CREATED:20240327T120715Z
LAST-MODIFIED:20250710T165057Z
UID:21122-1712948400-1712948400@octubre.cat
SUMMARY:Presentació del llibre Lingua Mater
DESCRIPTION:Antologia de dotze dones poetes dels Països Catalans. \nAmb la participació de Pura Peris (coordinadora de l’obra)\, Lourdes Toledo\, Llúcia Pallisser i Pablo Herranz. \nNova antologia poètica\, escrita per 12 dones de Catalunya\, País Valencià i illes Balears\, selecciónada i coordinada per la també poeta valenciana\, Pura Peris García\, presidenta de la Jam Poètica de l’Eliana.\nPoemes de Carme Arnau i Orts\, Carme Balanzat Muñoz\, María Rosa Blázquez Marín\, Antonina Canyelles i Colom\, Fe Ferré\, Maria Teresa Ferrer Escandell\, Aina Garcia Carbó\, Gràcia Jiménez Tirado\, Carme López Arias\, Llucia Palliser Santana\, Pura Peris i Garcia i Carme Romia i Agustí. \n  \n \n(Galés Editor)
URL:https://octubre.cat/activitat/presentacio-del-llibre-lingua-mater/
LOCATION:Llibreria Fan Set
CATEGORIES:Literatura
ATTACH;FMTTYPE=image/jpeg:https://octubre.cat/www/wp-content/uploads/2022/04/llibreria-fan-set.jpg
END:VEVENT
END:VCALENDAR