BEGIN:VCALENDAR
VERSION:2.0
PRODID:-//Octubre Centre de Cultura Contemporània - ECPv5.1.6//NONSGML v1.0//EN
CALSCALE:GREGORIAN
METHOD:PUBLISH
X-WR-CALNAME:Octubre Centre de Cultura Contemporània
X-ORIGINAL-URL:https://octubre.cat
X-WR-CALDESC:Events for Octubre Centre de Cultura Contemporània
BEGIN:VTIMEZONE
TZID:Europe/Andorra
BEGIN:DAYLIGHT
TZOFFSETFROM:+0100
TZOFFSETTO:+0200
TZNAME:CEST
DTSTART:20160327T010000
END:DAYLIGHT
BEGIN:STANDARD
TZOFFSETFROM:+0200
TZOFFSETTO:+0100
TZNAME:CET
DTSTART:20161030T010000
END:STANDARD
END:VTIMEZONE
BEGIN:VEVENT
DTSTART;TZID=Europe/Andorra:20161123T190000
DTEND;TZID=Europe/Andorra:20161123T190000
DTSTAMP:20260421T041850
CREATED:20200729T172150Z
LAST-MODIFIED:20200729T185639Z
UID:10870-1479927600-1479927600@octubre.cat
SUMMARY:Presentació del llibre 'L'incert alberg'\, de Josep Igual
DESCRIPTION:Dimecres 23 de novembre a les 19.00h\, amb l’autor\, Vicent Olmos i Andreu Sevilla.  \n  \n  \n\n (Editorial Afers)  La presentació anirà a càrrec de l’autor acompanyat per Andreu Sevilla (escriptor) i Vicent Olmos (editor).
URL:https://octubre.cat/activitat/presentacio-del-llibre-lincert-alberg-de-josep-igual/
LOCATION:Llibreria Fan Set
CATEGORIES:Literatura
ATTACH;FMTTYPE=image/jpeg:https://octubre.cat/www/wp-content/uploads/2020/07/activitat2694.jpg
END:VEVENT
END:VCALENDAR