BEGIN:VCALENDAR
VERSION:2.0
PRODID:-//Octubre Centre de Cultura Contemporània - ECPv5.1.6//NONSGML v1.0//EN
CALSCALE:GREGORIAN
METHOD:PUBLISH
X-WR-CALNAME:Octubre Centre de Cultura Contemporània
X-ORIGINAL-URL:https://octubre.cat
X-WR-CALDESC:Events for Octubre Centre de Cultura Contemporània
BEGIN:VTIMEZONE
TZID:Europe/Andorra
BEGIN:DAYLIGHT
TZOFFSETFROM:+0100
TZOFFSETTO:+0200
TZNAME:CEST
DTSTART:20240331T010000
END:DAYLIGHT
BEGIN:STANDARD
TZOFFSETFROM:+0200
TZOFFSETTO:+0100
TZNAME:CET
DTSTART:20241027T010000
END:STANDARD
END:VTIMEZONE
BEGIN:VEVENT
DTSTART;TZID=Europe/Andorra:20240326T190000
DTEND;TZID=Europe/Andorra:20240326T190000
DTSTAMP:20260420T154721
CREATED:20240225T165602Z
LAST-MODIFIED:20250710T164749Z
UID:21007-1711479600-1711479600@octubre.cat
SUMMARY:Presentació del llibre L’essència de l’arbre\, de Maria Carme Arnau i Orts
DESCRIPTION:Amb l’autora acompanyada per Àfrica Ramírez. \nL’essència de l’arbre és la reconstrucció de les circumstàncies que als protagonistes els va tocar viure en els anys de la guerra civil\, de la postguerra i fins a l’actualitat. Malgrat les vicissituds\, els personatges\, especialment les dones\, van saber continuar endavant trencant els lligams que les esclavitzaven\, i apostant amb valentia i determinació per obrir un horitzó cap a un món més humanitzat.\nL’autora\, a través d’uns personatges reals i imaginaris\, fa un retrat poètic i lúcid d’una època marcada per l’esperança. A través de la narració\, trobarem el seu estil\, capaç de captivar les vides colpejades d’uns éssers que s’apropen a les nostres vides i que van lluitar incansablement pels seus anhels i\, alhora\, ens ensenyen a mirar sempre cap al futur\, sense oblidar el passat. \n  \n \n(Balandra)
URL:https://octubre.cat/activitat/presentacio-del-llibre-lessencia-de-larbre-de-maria-carme-arnau-i-orts/
LOCATION:Llibreria Fan Set
CATEGORIES:Literatura
ATTACH;FMTTYPE=image/jpeg:https://octubre.cat/www/wp-content/uploads/2021/10/mari-carme-arnau.jpg
END:VEVENT
END:VCALENDAR