BEGIN:VCALENDAR
VERSION:2.0
PRODID:-//Octubre Centre de Cultura Contemporània - ECPv5.1.6//NONSGML v1.0//EN
CALSCALE:GREGORIAN
METHOD:PUBLISH
X-WR-CALNAME:Octubre Centre de Cultura Contemporània
X-ORIGINAL-URL:https://octubre.cat
X-WR-CALDESC:Events for Octubre Centre de Cultura Contemporània
BEGIN:VTIMEZONE
TZID:Europe/Andorra
BEGIN:DAYLIGHT
TZOFFSETFROM:+0100
TZOFFSETTO:+0200
TZNAME:CEST
DTSTART:20070325T010000
END:DAYLIGHT
BEGIN:STANDARD
TZOFFSETFROM:+0200
TZOFFSETTO:+0100
TZNAME:CET
DTSTART:20071028T010000
END:STANDARD
END:VTIMEZONE
BEGIN:VEVENT
DTSTART;TZID=Europe/Andorra:20070517T000000
DTEND;TZID=Europe/Andorra:20070517T000000
DTSTAMP:20260420T192317
CREATED:20260106T174853Z
LAST-MODIFIED:20260106T180835Z
UID:24590-1179360000-1179360000@octubre.cat
SUMMARY:Presentació del llibre L'espoli fiscal del País Valencià\, de Celestí Gimeno
DESCRIPTION:Presentació del llibre L’espoli fiscal del País Valencià\, de Celestí Gimeno (Universitat Jaume I de Castelló)
URL:https://octubre.cat/activitat/presentacio-del-llibre-lespoli-fiscal-del-pais-valencia-de-celesti-gimeno/
LOCATION:No definit
CATEGORIES:Literatura
ATTACH;FMTTYPE=image/jpeg:https://octubre.cat/www/wp-content/uploads/2020/07/llibres1.jpg
END:VEVENT
END:VCALENDAR