BEGIN:VCALENDAR
VERSION:2.0
PRODID:-//Octubre Centre de Cultura Contemporània - ECPv5.1.6//NONSGML v1.0//EN
CALSCALE:GREGORIAN
METHOD:PUBLISH
X-WR-CALNAME:Octubre Centre de Cultura Contemporània
X-ORIGINAL-URL:https://octubre.cat
X-WR-CALDESC:Events for Octubre Centre de Cultura Contemporània
BEGIN:VTIMEZONE
TZID:Europe/Andorra
BEGIN:DAYLIGHT
TZOFFSETFROM:+0100
TZOFFSETTO:+0200
TZNAME:CEST
DTSTART:20170326T010000
END:DAYLIGHT
BEGIN:STANDARD
TZOFFSETFROM:+0200
TZOFFSETTO:+0100
TZNAME:CET
DTSTART:20171029T010000
END:STANDARD
END:VTIMEZONE
BEGIN:VEVENT
DTSTART;TZID=Europe/Andorra:20171123T190000
DTEND;TZID=Europe/Andorra:20171123T190000
DTSTAMP:20260422T083558
CREATED:20200729T190156Z
LAST-MODIFIED:20200729T190156Z
UID:13263-1511463600-1511463600@octubre.cat
SUMMARY:Presentació del llibre 'Les síl·labes secretes'\, de Lluís Alpera
DESCRIPTION:Dijous 23 de novembre a les 19.00h. Amb l’autor acompanyat per Manel Rodríguez Castelló i Jaume Pérez Montaner.  \n  \n  \n\n Amb l’autor acompanyat per Manel Rodríguez Castelló i Jaume Pérez Montaner.  Premi Francesc Badenes Dalmau d’Alberic 2017.  (Perifèric)
URL:https://octubre.cat/activitat/presentacio-del-llibre-les-sillabes-secretes-de-lluis-alpera/
LOCATION:Terrat
CATEGORIES:Literatura
ATTACH;FMTTYPE=image/jpeg:https://octubre.cat/www/wp-content/uploads/2020/07/activitat2903.jpg
END:VEVENT
END:VCALENDAR