BEGIN:VCALENDAR
VERSION:2.0
PRODID:-//Octubre Centre de Cultura Contemporània - ECPv5.1.6//NONSGML v1.0//EN
CALSCALE:GREGORIAN
METHOD:PUBLISH
X-WR-CALNAME:Octubre Centre de Cultura Contemporània
X-ORIGINAL-URL:https://octubre.cat
X-WR-CALDESC:Events for Octubre Centre de Cultura Contemporània
BEGIN:VTIMEZONE
TZID:Europe/Andorra
BEGIN:DAYLIGHT
TZOFFSETFROM:+0100
TZOFFSETTO:+0200
TZNAME:CEST
DTSTART:20170326T010000
END:DAYLIGHT
BEGIN:STANDARD
TZOFFSETFROM:+0200
TZOFFSETTO:+0100
TZNAME:CET
DTSTART:20171029T010000
END:STANDARD
END:VTIMEZONE
BEGIN:VEVENT
DTSTART;TZID=Europe/Andorra:20171115T190000
DTEND;TZID=Europe/Andorra:20171115T190000
DTSTAMP:20260421T200801
CREATED:20200729T172703Z
LAST-MODIFIED:20200729T185904Z
UID:11204-1510772400-1510772400@octubre.cat
SUMMARY:Presentació del llibre 'Les quatre vides de l'oncle Antoine'\, de Xavier Aliaga
DESCRIPTION:Dimecres 15 de novembre a les 19.00h i a la llibreria Fan Set. Amb l’autor acompanyat per Ferran Torrent.  \n  \n  \n\n XXVII Premi Ciutat de Tarragona de novel·la Pin i Soler.  La presentació anirà a càrrec de l’escriptor Ferran Torrent.  Antonio Aliaga ha de fugir d’Espanya durant els primers anys de la postguerra. Les seves activitats antifranquistes a la clandestinitat l’obliguen a deixar dona i dues filles a Carcaixent i allistar-se a la Legió Estrangera\, immersa en la guerra d’Indoxina. En la distància física i a ulls de la seva família Antonio es converteix en un personatge misteriós\, esmunyedís i mític.  Xavier Aliaga\, l’autor i narrador\, no ha conegut el seu oncle Antonio\, però immers en el paper de cronista s’endinsa en el passat familiar per treure a la llum la veritat\, fins allà on pugui\, desvetllar misèries i grandeses i construir una esplèndida novel·la sobre una vida alhora ordinària i excepcional.  (Angle Editorial)
URL:https://octubre.cat/activitat/presentacio-del-llibre-les-quatre-vides-de-loncle-antoine-de-xavier-aliaga/
LOCATION:Llibreria Fan Set
CATEGORIES:Literatura
ATTACH;FMTTYPE=image/jpeg:https://octubre.cat/www/wp-content/uploads/2020/07/activitat2873.jpg
END:VEVENT
END:VCALENDAR