BEGIN:VCALENDAR
VERSION:2.0
PRODID:-//Octubre Centre de Cultura Contemporània - ECPv5.1.6//NONSGML v1.0//EN
CALSCALE:GREGORIAN
METHOD:PUBLISH
X-WR-CALNAME:Octubre Centre de Cultura Contemporània
X-ORIGINAL-URL:https://octubre.cat
X-WR-CALDESC:Events for Octubre Centre de Cultura Contemporània
BEGIN:VTIMEZONE
TZID:Europe/Andorra
BEGIN:DAYLIGHT
TZOFFSETFROM:+0100
TZOFFSETTO:+0200
TZNAME:CEST
DTSTART:20170326T010000
END:DAYLIGHT
BEGIN:STANDARD
TZOFFSETFROM:+0200
TZOFFSETTO:+0100
TZNAME:CET
DTSTART:20171029T010000
END:STANDARD
END:VTIMEZONE
BEGIN:VEVENT
DTSTART;TZID=Europe/Andorra:20170404T190000
DTEND;TZID=Europe/Andorra:20170404T190000
DTSTAMP:20260420T194342
CREATED:20200729T172521Z
LAST-MODIFIED:20200729T185809Z
UID:11097-1491332400-1491332400@octubre.cat
SUMMARY:Presentació del llibre 'Les mestres freinetistes dels anys trenta'
DESCRIPTION:Dimarts 4 d’abril a les 19.00h i a la llibreria Fan Set. Amb Carme Agulló\, Alfred Ramos i Ferran Zurriaga.  \n  \n  \n\n (Universitat Jaume I).  Amb Carme Agulló\, Alfred Ramos i Ferran Zurriaga.  La XXIX Reunió Internacional d’Educadores Freinet (RIDEF) organitzada pel Moviment Cooperatiu de l’Escola Popular a Lleó\, en 2012\, sota el lema “Educació i equitat de gènere” va permetre aplegar un grup d’investigadors i investigadores que\, des de fa temps\, està treballant al voltant de la recuperació del llegat de Freinet a l’Estat Espanyol. Al seu si tingueren lloc les II Jornades d’Estudi sobre els quaderns o revistes de les tècniques Freinet\, continuació de les primeres celebrades a Castelló de la Plana l’any 2010. Encoratjats pels importants descobriments de publicacions i dels seus impulsors\, que amplien enormement el mapa de la influència de Freinet\, es va plantejar recollir en una publicació les aportacions de les mestres\, vist que tenen una entitat pròpia dins d’aquest moviment.
URL:https://octubre.cat/activitat/presentacio-del-llibre-les-mestres-freinetistes-dels-anys-trenta/
LOCATION:Llibreria Fan Set
CATEGORIES:Literatura
ATTACH;FMTTYPE=image/jpeg:https://octubre.cat/www/wp-content/uploads/2020/07/activitat2808.jpg
END:VEVENT
END:VCALENDAR