BEGIN:VCALENDAR
VERSION:2.0
PRODID:-//Octubre Centre de Cultura Contemporània - ECPv5.1.6//NONSGML v1.0//EN
CALSCALE:GREGORIAN
METHOD:PUBLISH
X-WR-CALNAME:Octubre Centre de Cultura Contemporània
X-ORIGINAL-URL:https://octubre.cat
X-WR-CALDESC:Events for Octubre Centre de Cultura Contemporània
BEGIN:VTIMEZONE
TZID:Europe/Andorra
BEGIN:DAYLIGHT
TZOFFSETFROM:+0100
TZOFFSETTO:+0200
TZNAME:CEST
DTSTART:20170326T010000
END:DAYLIGHT
BEGIN:STANDARD
TZOFFSETFROM:+0200
TZOFFSETTO:+0100
TZNAME:CET
DTSTART:20171029T010000
END:STANDARD
END:VTIMEZONE
BEGIN:VEVENT
DTSTART;TZID=Europe/Andorra:20171213T190000
DTEND;TZID=Europe/Andorra:20171213T190000
DTSTAMP:20260421T150224
CREATED:20200729T190229Z
LAST-MODIFIED:20200729T190229Z
UID:13296-1513191600-1513191600@octubre.cat
SUMMARY:Presentació del llibre 'Les llàgrimes d'Orfeu'\, de Vicent Pallarés
DESCRIPTION:Dimecres 13 de desembre a les 19.00h. Premi Andròmina de narrativa dels Premis Octubre 2017. Amb l’autor acompanyat per Carme Manuel i Raquel Ricart.  \n  \n  \n\n Premi Andròmina de narrativa dels Premis Octubre 2017.  Amb l’autor acompanyat per Carme Manuel i Raquel Ricart.  “La narració de Vicent Pallarés recorre els moments més destacats de la trajectòria del revolucionari guitarrista valencià Francesc d’Assís Tàrrega (Vila-real\, 21 de novembre del 1852 – Barcelona\, 15 de desembre del 1909) a través dels ulls de la seva muller\, que va haver d’abandonar la seva passió musical per assumir la gestió familiar\, i de Vicent Tàrrega\, germà del concertista\, que es va sacrificar per mantenir econòmicament la família. “Vaig llegir una biografia beatífica i ensucrada de Tàrrega i em va interessar investigar qui va haver de patir les obsessions i manies d’aquest geni”\, va explicar l’autor\, barceloní de naixement però arrelat al País Valencià des de ben menut.” (Daniel Martín\, diari Ara).  Edicions 3i4
URL:https://octubre.cat/activitat/presentacio-del-llibre-les-llagrimes-dorfeu-de-vicent-pallares/
LOCATION:Llibreria Fan Set
CATEGORIES:Literatura
ATTACH;FMTTYPE=image/jpeg:https://octubre.cat/www/wp-content/uploads/2020/07/activitat2935.jpg
END:VEVENT
END:VCALENDAR