BEGIN:VCALENDAR
VERSION:2.0
PRODID:-//Octubre Centre de Cultura Contemporània - ECPv5.1.6//NONSGML v1.0//EN
CALSCALE:GREGORIAN
METHOD:PUBLISH
X-WR-CALNAME:Octubre Centre de Cultura Contemporània
X-ORIGINAL-URL:https://octubre.cat
X-WR-CALDESC:Events for Octubre Centre de Cultura Contemporània
BEGIN:VTIMEZONE
TZID:Europe/Andorra
BEGIN:DAYLIGHT
TZOFFSETFROM:+0100
TZOFFSETTO:+0200
TZNAME:CEST
DTSTART:20230326T010000
END:DAYLIGHT
BEGIN:STANDARD
TZOFFSETFROM:+0200
TZOFFSETTO:+0100
TZNAME:CET
DTSTART:20231029T010000
END:STANDARD
END:VTIMEZONE
BEGIN:VEVENT
DTSTART;TZID=Europe/Andorra:20230517T190000
DTEND;TZID=Europe/Andorra:20230517T190000
DTSTAMP:20260420T175509
CREATED:20230320T162944Z
LAST-MODIFIED:20231006T080133Z
UID:19657-1684350000-1684350000@octubre.cat
SUMMARY:Presentació del llibre Les dones Borja\, de Verònica Zaragoza Gómez
DESCRIPTION:Amb l’autora acompanyada per l’historiador Vicent Baydal. \nAquest llibre aplega les biografies de set dones del llinatge Borja i el seu entorn: són tres parelles de mare i filla (Isabel i Tecla de Borja\, Vannozza Cattanei i Lucrècia Borja\, Maria Enríquez i Isabel de Borja i Enríquez)\, i una neboda de l’anterior (Lluïsa de Borja i d’Aragó)\, a més d’un retrat de grup de les monges borgianes de Santa Clara de Gandia. Hi trobem des de la petita noble del XV i les grans duquesses del XVI que gestionen el patrimoni familiar i l’educació dels fills\, i actuen com a mecenes a les seves corts\, fins a emprenedores i monges de sòlida formació cultural que ocupen càrrecs de govern a Santa Clara i funden nous convents\, passant per escriptores actives als cercles literaris coetanis. La seva peripècia vital i cultural les allunya definitivament de la “llegenda negra” o de l’oblit que les envoltava\, i recupera el paper que tingueren en la consolidació del llinatge Borja i en la societat i la cultura de la seva època. \n  \n \n(Tres i Quatre)
URL:https://octubre.cat/activitat/presentacio-del-llibre-les-dones-borja-de-veronica-zaragoza-gomez/
LOCATION:Llibreria Fan Set
CATEGORIES:Literatura
ATTACH;FMTTYPE=image/jpeg:https://octubre.cat/www/wp-content/uploads/2023/03/veronica-zaragoza.jpg
END:VEVENT
END:VCALENDAR