BEGIN:VCALENDAR
VERSION:2.0
PRODID:-//Octubre Centre de Cultura Contemporània - ECPv5.1.6//NONSGML v1.0//EN
CALSCALE:GREGORIAN
METHOD:PUBLISH
X-WR-CALNAME:Octubre Centre de Cultura Contemporània
X-ORIGINAL-URL:https://octubre.cat
X-WR-CALDESC:Events for Octubre Centre de Cultura Contemporània
BEGIN:VTIMEZONE
TZID:Europe/Andorra
BEGIN:DAYLIGHT
TZOFFSETFROM:+0100
TZOFFSETTO:+0200
TZNAME:CEST
DTSTART:20170326T010000
END:DAYLIGHT
BEGIN:STANDARD
TZOFFSETFROM:+0200
TZOFFSETTO:+0100
TZNAME:CET
DTSTART:20171029T010000
END:STANDARD
END:VTIMEZONE
BEGIN:VEVENT
DTSTART;TZID=Europe/Andorra:20171005T193000
DTEND;TZID=Europe/Andorra:20171005T193000
DTSTAMP:20260420T182715
CREATED:20200729T172714Z
LAST-MODIFIED:20200729T185913Z
UID:11216-1507231800-1507231800@octubre.cat
SUMMARY:Presentació del llibre 'L'assassí que estimava els llibres'\, de Martí Domínguez
DESCRIPTION:Dijous 5 d’octubre a les 19.30h\, a la llibrereia Fan Set. Amb l’autor acompanyat per Gustau Muñoz i Carme Manuel. Coorganitzat amb l’Espai Ciència.  \n  \n  \n\n La presentació anirà a càrrec de l’autor acompanyat per Gustau Muñoz i Carme Manuel.  Guillem Gual\, un crític literari inflexible que s’ha guanyat fama i enemics a parts iguals\, apareix assassinat. Al costat del cadàver\, s’hi troba un petit llibre: L’assassinat com una de les belles arts\, de Thomas de Quincey. Una coincidència o una pista que cal seguir? Quan apareix mort el filòsof J.F. Escrivà amb un llibre de Jean-Paul Sartre al costat\, el desconcert dels inspectors valencians Tena i Espinosa no fa sinó augmentar. Arriba un reforç policial de Madrid\, l’inspector Alcácer\, es van fent entrevistes amb gent diversa del món literari i cultural i\, en paral·lel\, la novel·la va desplegant un retrat vivíssim i mordaç de sectors diversos de la ciutat de València\, sobretot de l’àmbit benestant i amb pretensions de notorietat.  (Edicions Proa)  Presentació organitzada amb la col·laboració de l’Espai Ciència.
URL:https://octubre.cat/activitat/presentacio-del-llibre-lassassi-que-estimava-els-llibres-de-marti-dominguez/
LOCATION:Llibreria Fan Set
CATEGORIES:Literatura
ATTACH;FMTTYPE=image/jpeg:https://octubre.cat/www/wp-content/uploads/2020/07/activitat2885.jpg
END:VEVENT
END:VCALENDAR