BEGIN:VCALENDAR
VERSION:2.0
PRODID:-//Octubre Centre de Cultura Contemporània - ECPv5.1.6//NONSGML v1.0//EN
CALSCALE:GREGORIAN
METHOD:PUBLISH
X-WR-CALNAME:Octubre Centre de Cultura Contemporània
X-ORIGINAL-URL:https://octubre.cat
X-WR-CALDESC:Events for Octubre Centre de Cultura Contemporània
BEGIN:VTIMEZONE
TZID:Europe/Andorra
BEGIN:DAYLIGHT
TZOFFSETFROM:+0100
TZOFFSETTO:+0200
TZNAME:CEST
DTSTART:20230326T010000
END:DAYLIGHT
BEGIN:STANDARD
TZOFFSETFROM:+0200
TZOFFSETTO:+0100
TZNAME:CET
DTSTART:20231029T010000
END:STANDARD
END:VTIMEZONE
BEGIN:VEVENT
DTSTART;TZID=Europe/Andorra:20230112T190000
DTEND;TZID=Europe/Andorra:20230112T190000
DTSTAMP:20260420T164221
CREATED:20221220T121255Z
LAST-MODIFIED:20250710T100635Z
UID:19209-1673550000-1673550000@octubre.cat
SUMMARY:Presentació del llibre L'assaig dispers\, de Joan Fuster
DESCRIPTION:Edició i introducció de Josep Ballester.\nPresentació a càrrec de Josep Ballester\, Jaume Pérez Montaner i Margarida Castellano. \nEls assaigs dispersos ens permeten fer una mirada en l’evolució del discurs assagístic de Fuster de 1948 fins 1991. Quaranta anys d’escriptura on apercebem continuïtats i discontinuïtats tant d’estil com de llibertats formals\, de motius temàtics o de referències presents\, algunes gairebé des dels inicis\, moltes altres apareixen en posterioritat en la seua creació. L’assaig és el gènere vehicular on Fuster ens mostrarà el pensament i el projecte d’allunyar-nos de les mixtures ideològiques i de desintoxicar-nos de les metafísiques a l’abast. Així\, l’estil\, la seua llengua de creació serà un mecanisme higienitzador adreçat a eliminar els gèrmens nocius de tot dogmatisme i de les estratègies enganyoses del poder. La seua obra\, des d’aquest punt de vista\, és una conversa que indueix a participar el lector. I l’aspecte estilístic\, també és un diàleg: obert\, provocador\, relatiu\, suggeridor\, discontinu\, amé.  \n  \n \n(Vincle)
URL:https://octubre.cat/activitat/presentacio-del-llibre-lassaig-dispers-de-joan-fuster/
LOCATION:Llibreria Fan Set
CATEGORIES:Any Joan Fuster 2022,Literatura
ATTACH;FMTTYPE=image/jpeg:https://octubre.cat/www/wp-content/uploads/2022/05/joan_fuster.jpg
END:VEVENT
END:VCALENDAR