BEGIN:VCALENDAR
VERSION:2.0
PRODID:-//Octubre Centre de Cultura Contemporània - ECPv5.1.6//NONSGML v1.0//EN
CALSCALE:GREGORIAN
METHOD:PUBLISH
X-WR-CALNAME:Octubre Centre de Cultura Contemporània
X-ORIGINAL-URL:https://octubre.cat
X-WR-CALDESC:Events for Octubre Centre de Cultura Contemporània
BEGIN:VTIMEZONE
TZID:Europe/Andorra
BEGIN:DAYLIGHT
TZOFFSETFROM:+0100
TZOFFSETTO:+0200
TZNAME:CEST
DTSTART:20170326T010000
END:DAYLIGHT
BEGIN:STANDARD
TZOFFSETFROM:+0200
TZOFFSETTO:+0100
TZNAME:CET
DTSTART:20171029T010000
END:STANDARD
END:VTIMEZONE
BEGIN:VEVENT
DTSTART;TZID=Europe/Andorra:20170511T190000
DTEND;TZID=Europe/Andorra:20170511T190000
DTSTAMP:20260421T130919
CREATED:20200729T172551Z
LAST-MODIFIED:20200729T185825Z
UID:11130-1494529200-1494529200@octubre.cat
SUMMARY:Presentació del llibre 'L'arquitectura de la ficció'\, de Vicent Usó
DESCRIPTION:Dijous 11 de maig a les 19.00h a la llibreria Fan Set.  \n  \n  \n\n (Bromera)  L’escriptura no és la simple manifestació natural del talent\, sinó el resultat d’una operació que té un important component tècnic. L’escriptor Vicent Usó imparteix des de fa anys un taller d’escriptura narrativa i\, fruit d’aquesta experiència\, ha nascut aquesta rigorosa obra que dóna resposta als dubtes\, les inquietuds i els anhels dels aprenents d’escriptor. S’hi recullen els recursos i les tècniques que es poden fer servir per a escriure narrativa de ficció\, i també les eines indispensables per a explicar i modelar una història. L’obra pren com a referència una sèrie d’autors\, d’arquitectes\, que donen forma als somnis on ens perdem cada vegada que llegim un llibre. En definitiva\, ens trobem davant d’un veritable assaig sobre la creació literària\, que interessarà tant als apassionats de l’escriptura com als lectors àvids per conéixer els mecanismes d’una obra literària.
URL:https://octubre.cat/activitat/presentacio-del-llibre-larquitectura-de-la-ficcio-de-vicent-uso/
LOCATION:Llibreria Fan Set
CATEGORIES:Literatura
ATTACH;FMTTYPE=image/jpeg:https://octubre.cat/www/wp-content/uploads/2020/07/activitat2826.jpg
END:VEVENT
END:VCALENDAR