BEGIN:VCALENDAR
VERSION:2.0
PRODID:-//Octubre Centre de Cultura Contemporània - ECPv5.1.6//NONSGML v1.0//EN
CALSCALE:GREGORIAN
METHOD:PUBLISH
X-WR-CALNAME:Octubre Centre de Cultura Contemporània
X-ORIGINAL-URL:https://octubre.cat
X-WR-CALDESC:Events for Octubre Centre de Cultura Contemporània
BEGIN:VTIMEZONE
TZID:Europe/Andorra
BEGIN:DAYLIGHT
TZOFFSETFROM:+0100
TZOFFSETTO:+0200
TZNAME:CEST
DTSTART:20150329T010000
END:DAYLIGHT
BEGIN:STANDARD
TZOFFSETFROM:+0200
TZOFFSETTO:+0100
TZNAME:CET
DTSTART:20151025T010000
END:STANDARD
END:VTIMEZONE
BEGIN:VEVENT
DTSTART;TZID=Europe/Andorra:20150415T190000
DTEND;TZID=Europe/Andorra:20150415T190000
DTSTAMP:20260421T191858
CREATED:20200729T171008Z
LAST-MODIFIED:20200730T041418Z
UID:10122-1429124400-1429124400@octubre.cat
SUMMARY:Presentació del llibre 'L'any del devorador'\, d'Emili Piera
DESCRIPTION:NOTA IMPORTANT: aquesta presentació s’ha ajornat. Més endavant informarem de la nova data.  \n  \n  \n\n (El Petit Editor)  NOTA IMPORTANT: aquesta presentació s’ha ajornat. Més endavant informarem de la nova data.
URL:https://octubre.cat/activitat/presentacio-del-llibre-lany-del-devorador-demili-piera/
LOCATION:Llibreria 3i4
CATEGORIES:Literatura
ATTACH;FMTTYPE=image/jpeg:https://octubre.cat/www/wp-content/uploads/2020/07/activitat2296.jpg
END:VEVENT
END:VCALENDAR