BEGIN:VCALENDAR
VERSION:2.0
PRODID:-//Octubre Centre de Cultura Contemporània - ECPv5.1.6//NONSGML v1.0//EN
CALSCALE:GREGORIAN
METHOD:PUBLISH
X-WR-CALNAME:Octubre Centre de Cultura Contemporània
X-ORIGINAL-URL:https://octubre.cat
X-WR-CALDESC:Events for Octubre Centre de Cultura Contemporània
BEGIN:VTIMEZONE
TZID:Europe/Andorra
BEGIN:DAYLIGHT
TZOFFSETFROM:+0100
TZOFFSETTO:+0200
TZNAME:CEST
DTSTART:20130331T010000
END:DAYLIGHT
BEGIN:STANDARD
TZOFFSETFROM:+0200
TZOFFSETTO:+0100
TZNAME:CET
DTSTART:20131027T010000
END:STANDARD
END:VTIMEZONE
BEGIN:VEVENT
DTSTART;TZID=Europe/Andorra:20131003T190000
DTEND;TZID=Europe/Andorra:20131003T190000
DTSTAMP:20260421T015618
CREATED:20200729T170139Z
LAST-MODIFIED:20200729T184206Z
UID:9593-1380826800-1380826800@octubre.cat
SUMMARY:Presentació del llibre 'La xiqueta de les sandàlies de pell de porc'\, d'Emili Ferrando
DESCRIPTION:Dijous 3 d’octubre a les 19.00h\, a càrrec d’Octavi Monsonís i amb la presència de l’autor  \n  \n  \n\n La presentació anirà a càrrec de l’escriptor Octavi Monsonís.  La novel·la d’Emili Ferrando vol contribuir\, a partir de la visió ingènua i innocent d’una xiqueta de dotze anys\, a valorar en tota la seua dimensió l’experiència i saviesa que han  aportat a la societat els treballadors del camp i en especial  els masovers. Per altra part pretén superar la visió simplista i interessada que el règim franquista donà dels maquis i dels qui els prestaren  –de bon grat o per la força- algun tipus de suport; a restituir l’honorabilitat dels qui foren injustament reprimits\, empresonats i assassinats; i a recordar que la vocació dels humans no és viure des de la por sinó  des de la clarividència\, la consciència crítica i la llibertat. També des de la literatura\, doncs\, es pot contribuir a la recuperació de la memòria històrica i de la dignitat de les víctimes del franquisme.   Emili Ferrando Puig Emili Ferrando Puig va néixer a Benassal (Castelló) l’11 de setembre de 1948. Ha realitzat estudis de Magisteri i de Teologia i és Doctor en Geografia i Història per la Universitat de Barcelona. El 1975 es traslladà a Badalona on ha treballat en diverses escoles i instituts  com a professor de Ciències Socials. Ha estat també professor d’Història Políticosocial Contemporània de la Facultat de Ciències de la Comunicació Blanquerna\, Universitat Ramon Llull\, on ha impartit igualment cursos de doctorat sobre Fonts Orals i Recerca Històrica. Ha publicat articles i llibres sobre  temàtica obrera\, social i cristiana\, dirigit conferències i guiat itineraris per conèixer la realitat històrica i social de Badalona.  Així mateix és membre de l’Equip de Pastoral Obrera de Badalona i  forma part del Grup de Recuperació de la Memòria Històrica de Benassal.
URL:https://octubre.cat/activitat/presentacio-del-llibre-la-xiqueta-de-les-sandalies-de-pell-de-porc-demili-ferrando/
LOCATION:Llibreria 3i4
CATEGORIES:Literatura
ATTACH;FMTTYPE=image/jpeg:https://octubre.cat/www/wp-content/uploads/2020/07/activitat1856.jpg
END:VEVENT
END:VCALENDAR