BEGIN:VCALENDAR
VERSION:2.0
PRODID:-//Octubre Centre de Cultura Contemporània - ECPv5.1.6//NONSGML v1.0//EN
CALSCALE:GREGORIAN
METHOD:PUBLISH
X-WR-CALNAME:Octubre Centre de Cultura Contemporània
X-ORIGINAL-URL:https://octubre.cat
X-WR-CALDESC:Events for Octubre Centre de Cultura Contemporània
BEGIN:VTIMEZONE
TZID:Europe/Andorra
BEGIN:DAYLIGHT
TZOFFSETFROM:+0100
TZOFFSETTO:+0200
TZNAME:CEST
DTSTART:20180325T010000
END:DAYLIGHT
BEGIN:STANDARD
TZOFFSETFROM:+0200
TZOFFSETTO:+0100
TZNAME:CET
DTSTART:20181028T010000
END:STANDARD
END:VTIMEZONE
BEGIN:VEVENT
DTSTART;TZID=Europe/Andorra:20180418T190000
DTEND;TZID=Europe/Andorra:20180418T190000
DTSTAMP:20260421T191913
CREATED:20200729T190334Z
LAST-MODIFIED:20200729T190334Z
UID:13364-1524078000-1524078000@octubre.cat
SUMMARY:Presentació del llibre 'La vida dins dels ulls'\, de Carles Cortés
DESCRIPTION:Dimecres 18 d’abril a les 19.00h. Amb l’autor acompanyat per Alfons Llorenç.  \n  \n  \n\n Amb l’autor acompanyat per Alfons Llorenç.  La vida dins dels ulls és un relat d’ambientació històrica sobre el poble jueu. Com afirma el mateix autor: “Amb un estil senzill i directe\, he intentat construir una història doble amb dos personatges masculins que cerquen el perquè de la seua existència. He treballat en aquesta novel·la des del 2011\, sense pressa però sense pausa\, en un relat que potser és el més ambiciós que mai he tingut com a escriptor.” La novel·la esdevé un trencaclosques on cada peça quadra per construir un projecte vital i personal en una de les novel·les més íntimes i personals de l’autor.  (Galerada)
URL:https://octubre.cat/activitat/presentacio-del-llibre-la-vida-dins-dels-ulls-de-carles-cortes/
LOCATION:Llibreria Fan Set
CATEGORIES:Literatura
ATTACH;FMTTYPE=image/jpeg:https://octubre.cat/www/wp-content/uploads/2020/07/activitat3003.jpg
END:VEVENT
END:VCALENDAR