BEGIN:VCALENDAR
VERSION:2.0
PRODID:-//Octubre Centre de Cultura Contemporània - ECPv5.1.6//NONSGML v1.0//EN
CALSCALE:GREGORIAN
METHOD:PUBLISH
X-WR-CALNAME:Octubre Centre de Cultura Contemporània
X-ORIGINAL-URL:https://octubre.cat
X-WR-CALDESC:Events for Octubre Centre de Cultura Contemporània
BEGIN:VTIMEZONE
TZID:Europe/Andorra
BEGIN:DAYLIGHT
TZOFFSETFROM:+0100
TZOFFSETTO:+0200
TZNAME:CEST
DTSTART:20190331T010000
END:DAYLIGHT
BEGIN:STANDARD
TZOFFSETFROM:+0200
TZOFFSETTO:+0100
TZNAME:CET
DTSTART:20191027T010000
END:STANDARD
END:VTIMEZONE
BEGIN:VEVENT
DTSTART;TZID=Europe/Andorra:20190520T190000
DTEND;TZID=Europe/Andorra:20190520T190000
DTSTAMP:20260421T072656
CREATED:20200729T173401Z
LAST-MODIFIED:20200729T191137Z
UID:11430-1558378800-1558378800@octubre.cat
SUMMARY:Presentació del llibre  "La vall d'Olocau\, Marines i Gàtova"\, de Ferran Zurriaga
DESCRIPTION:Dilluns 20 de maig a les 19.00h. Amb l’autor acompanyat per Adela Costa i Carme Miquel	 \n  \n  \n\n 	 Amb Adela Costa i Carme Miquel.  “Amb vuitanta anys\, l’autor ens fa un regal de lectura obligada pels qui vulguen descobrir la història dels valencians a partir d’un microcosmos rural que podria estendre’s a la resta del país. Des del cor de la serra Calderona\, un espai vital per al mestre\, Ferran confegeix un testament que aplega 2.000 anys d’història\, la visió del mestre que durant anys ha aplegat la vida dels seus i ens la retorna perquè siguem capaços de comprendre-la\, interpretar-la\, llegir-la si més no.” (Albert Dasí)
URL:https://octubre.cat/activitat/presentacio-del-llibre-la-vall-dolocau-marines-i-gatova-de-ferran-zurriaga/
LOCATION:Llibreria Fan Set
CATEGORIES:Literatura
ATTACH;FMTTYPE=image/jpeg:https://octubre.cat/www/wp-content/uploads/2020/07/activitat3278.jpg
END:VEVENT
END:VCALENDAR