BEGIN:VCALENDAR
VERSION:2.0
PRODID:-//Octubre Centre de Cultura Contemporània - ECPv5.1.6//NONSGML v1.0//EN
CALSCALE:GREGORIAN
METHOD:PUBLISH
X-WR-CALNAME:Octubre Centre de Cultura Contemporània
X-ORIGINAL-URL:https://octubre.cat
X-WR-CALDESC:Events for Octubre Centre de Cultura Contemporània
BEGIN:VTIMEZONE
TZID:Europe/Andorra
BEGIN:DAYLIGHT
TZOFFSETFROM:+0100
TZOFFSETTO:+0200
TZNAME:CEST
DTSTART:20140330T010000
END:DAYLIGHT
BEGIN:STANDARD
TZOFFSETFROM:+0200
TZOFFSETTO:+0100
TZNAME:CET
DTSTART:20141026T010000
END:STANDARD
END:VTIMEZONE
BEGIN:VEVENT
DTSTART;TZID=Europe/Andorra:20140916T190000
DTEND;TZID=Europe/Andorra:20140916T190000
DTSTAMP:20260421T223948
CREATED:20200729T170602Z
LAST-MODIFIED:20200730T041208Z
UID:9855-1410894000-1410894000@octubre.cat
SUMMARY:Presentació del llibre 'La set intacta'\, de Ramon Guillem
DESCRIPTION:Dimarts 16 de setembre a les 19.00h. A càrrec d’Ivan Brull  \n  \n  \n\n Premi Maria Mercè Marçal (Pagès Editors)  La presentació anirà a càrrec d’Ivan Brull  Una obra unitària\, malgrat haver estat escrita entre els anys 2008 i 2013\, que poetitza tot allò que “a pesar del temps i de la presència constant de la mort ens fa sentir vius amb la mateixa set de sempre\, amb tota la set intacta”\, en paraules de Guillem. La reivindicació del desig i de l’amor\, de la bellesa i de la paraula són el recer contra l’efímer i la fugacitat de la vida\, constants en la poesia d’aquest autor. El llibre consta de dos parts. La primera versa sobre el fred\, la fosca\, la fragilitat del goig\, la mort\, el pas de temps\, la vida buida\, la desfeta -per exemple\, al poema Cendra sobre cendra sobre la ciutat de València-\, el dolor i el desamor. A la segona part\, però\, la presència de la llum tot ho inunda.  Ramon Guillem (Catarroja\, 1959) és llicenciat en Geografia i Història i actualment treballa com a tècnic de biblioteques i arxius. La seva activitat literària se centra en la poesia\, encara que també ha conreat la prosa.
URL:https://octubre.cat/activitat/presentacio-del-llibre-la-set-intacta-de-ramon-guillem/
LOCATION:Llibreria 3i4
CATEGORIES:Literatura
ATTACH;FMTTYPE=image/jpeg:https://octubre.cat/www/wp-content/uploads/2020/07/activitat2123.jpg
END:VEVENT
END:VCALENDAR