BEGIN:VCALENDAR
VERSION:2.0
PRODID:-//Octubre Centre de Cultura Contemporània - ECPv5.1.6//NONSGML v1.0//EN
CALSCALE:GREGORIAN
METHOD:PUBLISH
X-WR-CALNAME:Octubre Centre de Cultura Contemporània
X-ORIGINAL-URL:https://octubre.cat
X-WR-CALDESC:Events for Octubre Centre de Cultura Contemporània
BEGIN:VTIMEZONE
TZID:Europe/Andorra
BEGIN:DAYLIGHT
TZOFFSETFROM:+0100
TZOFFSETTO:+0200
TZNAME:CEST
DTSTART:20150329T010000
END:DAYLIGHT
BEGIN:STANDARD
TZOFFSETFROM:+0200
TZOFFSETTO:+0100
TZNAME:CET
DTSTART:20151025T010000
END:STANDARD
END:VTIMEZONE
BEGIN:VEVENT
DTSTART;TZID=Europe/Andorra:20151215T190000
DTEND;TZID=Europe/Andorra:20151215T190000
DTSTAMP:20260421T072418
CREATED:20200729T171434Z
LAST-MODIFIED:20200730T041611Z
UID:10406-1450206000-1450206000@octubre.cat
SUMMARY:Presentació del llibre 'La sega'\, de Martí Domínguez
DESCRIPTION:Dimarts 15 de desembre a les 19.00h. Diàleg de l’autor amb Alfons Cervera i Violeta Tena.  \n  \n  \n\n (Proa)  Diàleg de l’autor amb Alfons Cervera i Violeta Tena.  La novel·la transcorre en un poble de masos disseminats\, al Maestrat\, entre els anys 40 i 50 del segle xx. És una zona boscosa que freqüenten els guerrilers del maquis\, que compten amb la complicitat material i sentimental de la filla del mas\, la Teresa\, i les reticències de la mare\, que ha vist com el seu marit era víctima de la guàrdia civil. El fill petit és el narrador de la història\, que descobreix el món en un context ple de secrets i violència. Un dels guerrillers del maquis\, que s’entén amb la Teresa\, és alhora confident de la guàrdia civil. Això originarà algun malentès i algun tiroteig. La novel·la segueix l’evolució del nen protagonista i de la seva família\, dividida i sacsejada per les lluites entre guerrillers i guàrdies\, en un poble de muntanya valencià.
URL:https://octubre.cat/activitat/presentacio-del-llibre-la-sega-de-marti-dominguez/
LOCATION:Llibreria 3i4
CATEGORIES:Literatura
ATTACH;FMTTYPE=image/jpeg:https://octubre.cat/www/wp-content/uploads/2020/07/activitat2450.jpg
END:VEVENT
END:VCALENDAR