BEGIN:VCALENDAR
VERSION:2.0
PRODID:-//Octubre Centre de Cultura Contemporània - ECPv5.1.6//NONSGML v1.0//EN
CALSCALE:GREGORIAN
METHOD:PUBLISH
X-WR-CALNAME:Octubre Centre de Cultura Contemporània
X-ORIGINAL-URL:https://octubre.cat
X-WR-CALDESC:Events for Octubre Centre de Cultura Contemporània
BEGIN:VTIMEZONE
TZID:Europe/Andorra
BEGIN:DAYLIGHT
TZOFFSETFROM:+0100
TZOFFSETTO:+0200
TZNAME:CEST
DTSTART:20180325T010000
END:DAYLIGHT
BEGIN:STANDARD
TZOFFSETFROM:+0200
TZOFFSETTO:+0100
TZNAME:CET
DTSTART:20181028T010000
END:STANDARD
END:VTIMEZONE
BEGIN:VEVENT
DTSTART;TZID=Europe/Andorra:20180224T130000
DTEND;TZID=Europe/Andorra:20180224T130000
DTSTAMP:20260423T100805
CREATED:20200729T190315Z
LAST-MODIFIED:20200729T190315Z
UID:13343-1519477200-1519477200@octubre.cat
SUMMARY:Presentació del llibre 'La revolución rusa pasó por aquí'
DESCRIPTION:Dissabte 24 de febrer a les 13.00h\, amb Pepe Gutiérrez Álvarez. Organitzat per ACPV i la Fundació Andreu Nin.  \n  \n  \n\n A càrrec de Pepe Gutierrez Álvarez\, autor\, membre del consell editorial de Viento Sur i vicepresident de la Fundació Andreu Nin.  A Espanya\, el triomf de la revolució russa fou rebut amb entusiasme entre molts sectors populars i durant molts anys la URSS fou un referent inevitable. En el present llibre es recullen una sèrie d’articles\, centrats en les implicacions de la revolució d’octubre amb les lluites de la classe obrera a Espanya. Implicacions que no es limitaren al territori específic de l’estat\, sinó que arribaren a la pròpia Rússia\, que en molts casos va acabar convertint-se en una autèntica Meca de revolucionaris com Andreu Nin i Joaquín Maurín. (Laertes)  Organitzen: Acció Cultural del País Valencià i Fundació Andreu Nin.
URL:https://octubre.cat/activitat/presentacio-del-llibre-la-revolucion-rusa-paso-por-aqui/
CATEGORIES:Literatura
ATTACH;FMTTYPE=image/jpeg:https://octubre.cat/www/wp-content/uploads/2020/07/activitat2983.jpg
END:VEVENT
END:VCALENDAR