BEGIN:VCALENDAR
VERSION:2.0
PRODID:-//Octubre Centre de Cultura Contemporània - ECPv5.1.6//NONSGML v1.0//EN
CALSCALE:GREGORIAN
METHOD:PUBLISH
X-WR-CALNAME:Octubre Centre de Cultura Contemporània
X-ORIGINAL-URL:https://octubre.cat
X-WR-CALDESC:Events for Octubre Centre de Cultura Contemporània
BEGIN:VTIMEZONE
TZID:Europe/Andorra
BEGIN:DAYLIGHT
TZOFFSETFROM:+0100
TZOFFSETTO:+0200
TZNAME:CEST
DTSTART:20220327T010000
END:DAYLIGHT
BEGIN:STANDARD
TZOFFSETFROM:+0200
TZOFFSETTO:+0100
TZNAME:CET
DTSTART:20221030T010000
END:STANDARD
END:VTIMEZONE
BEGIN:VEVENT
DTSTART;TZID=Europe/Andorra:20220211T190000
DTEND;TZID=Europe/Andorra:20220211T190000
DTSTAMP:20260420T150410
CREATED:20211222T110446Z
LAST-MODIFIED:20250630T075812Z
UID:17562-1644606000-1644606000@octubre.cat
SUMMARY:Presentació del llibre La resposta liberal
DESCRIPTION:Autors: Martí Jiménez-Mausbach (coordinador)\, Xavier Quer\, Anna Rossell\, Reger Medina\, Irune Ariño\, Jordi Oliver\, Alexander Golovín\, Eric Herrera.\nPròleg de Juan Ramón Rallo. Epíleg de Germà Bel. \nLa presentació anirà a càrrec de Martí Jiménez-Mausbach (coautor i director de Recerca de l’Institut Ostrom) i Anselm Bodoque (professor de Ciència Política i de l’Administració a la Universitat de València). \nQuin discurs ofereix el liberalisme davant d’aquells que pretenen debilitar els contrapesos institucionals\, els drets de propietat o la seguretat jurídica? I davant la xenofòbia o el proteccionisme? Com podem avançar cap a un creixement econòmic més inclusiu i respectuós amb el medi ambient? Quines reformes fiscals poden conjugar alhora eficiència\, suficiència i equitat sense perjudicar\, però\, la innovació i l’emprenedoria? Com podem preparar les noves generacions per al canvi tecnològic? Sobreviurà el mercat de treball a l’impacte de la robotització? Hem de posar límits a la llibertat d’expressió per combatre la crispació social o la postveritat? És possible un nou model de governança més enllà de l’Estat-nació? Aquest llibre revisa alguns dels reptes —polítics\, culturals\, socials\, econòmics\, tecnològics— més importants del nostre temps i planteja una nova narrativa. Davant el setge a l’ordre liberal cal plantejar idees i reformes en el marc de la igualtat humana\, la llibertat i la civilitat. Malgrat els presagis apocalíptics i les cròniques d’una mort anunciada\, el liberalisme és avui més viu que mai. \n \n(Editorial Base) \n—\nOrganitzat per l’Institut Ostrom Catalunya amb la col·laboració d’Acció Cultural del País Valencià.
URL:https://octubre.cat/activitat/presentacio-del-llibre-la-resposta-liberal/
LOCATION:Llibreria Fan Set
CATEGORIES:Conferències i congressos,Literatura
ATTACH;FMTTYPE=image/jpeg:https://octubre.cat/www/wp-content/uploads/2021/12/liberal-cap.jpg
END:VEVENT
END:VCALENDAR