BEGIN:VCALENDAR
VERSION:2.0
PRODID:-//Octubre Centre de Cultura Contemporània - ECPv5.1.6//NONSGML v1.0//EN
CALSCALE:GREGORIAN
METHOD:PUBLISH
X-WR-CALNAME:Octubre Centre de Cultura Contemporània
X-ORIGINAL-URL:https://octubre.cat
X-WR-CALDESC:Events for Octubre Centre de Cultura Contemporània
BEGIN:VTIMEZONE
TZID:Europe/Andorra
BEGIN:DAYLIGHT
TZOFFSETFROM:+0100
TZOFFSETTO:+0200
TZNAME:CEST
DTSTART:20090329T010000
END:DAYLIGHT
BEGIN:STANDARD
TZOFFSETFROM:+0200
TZOFFSETTO:+0100
TZNAME:CET
DTSTART:20091025T010000
END:STANDARD
END:VTIMEZONE
BEGIN:VEVENT
DTSTART;TZID=Europe/Andorra:20090211T193000
DTEND;TZID=Europe/Andorra:20090211T193000
DTSTAMP:20260420T225213
CREATED:20200729T182300Z
LAST-MODIFIED:20200729T182300Z
UID:12742-1234380600-1234380600@octubre.cat
SUMMARY:Presentació del llibre "La rebelión de los límites"\, de C.A. Ruiz Socha
DESCRIPTION:“La rebelión de los límites. Quimeras y porvenir de derechos y resistencias ante la opresión”\, de Carlos Alberto Ruiz Socha  Ediciones Desde Abajo\, Bogotà (juny de 2008) Prefaci de Franz Hinkelammert Pròleg de François Houtart  Hi intervindran: José Antonio Antón\,  Entrepobles País Valencià Empar Salvador\, Fòrum per la Memòria del País Valencià Un representant de CEDSALA Carlos Alberto Ruiz Socha\, autor del llibre.
URL:https://octubre.cat/activitat/presentacio-del-llibre-la-rebelion-de-los-limites-de-c-a-ruiz-socha/
LOCATION:No definit
CATEGORIES:Literatura
ATTACH;FMTTYPE=image/jpeg:https://octubre.cat/www/wp-content/uploads/2020/07/activitat766.jpg
END:VEVENT
END:VCALENDAR