BEGIN:VCALENDAR
VERSION:2.0
PRODID:-//Octubre Centre de Cultura Contemporània - ECPv5.1.6//NONSGML v1.0//EN
CALSCALE:GREGORIAN
METHOD:PUBLISH
X-WR-CALNAME:Octubre Centre de Cultura Contemporània
X-ORIGINAL-URL:https://octubre.cat
X-WR-CALDESC:Events for Octubre Centre de Cultura Contemporània
BEGIN:VTIMEZONE
TZID:Europe/Andorra
BEGIN:DAYLIGHT
TZOFFSETFROM:+0100
TZOFFSETTO:+0200
TZNAME:CEST
DTSTART:20230326T010000
END:DAYLIGHT
BEGIN:STANDARD
TZOFFSETFROM:+0200
TZOFFSETTO:+0100
TZNAME:CET
DTSTART:20231029T010000
END:STANDARD
END:VTIMEZONE
BEGIN:VEVENT
DTSTART;TZID=Europe/Andorra:20231111T120000
DTEND;TZID=Europe/Andorra:20231111T120000
DTSTAMP:20260421T152007
CREATED:20231102T084534Z
LAST-MODIFIED:20231102T084534Z
UID:20531-1699704000-1699704000@octubre.cat
SUMMARY:Presentació del llibre La por de la bèstia\, d’Anna Moner
DESCRIPTION:A principis del segle xx\, el Minotaure\, un assassí en sèrie obsessionat de forma malaltissa pels sabors de les llàgrimes i les reaccions fisiològiques de les seves víctimes tot just abans de morir\, ronda els carrers de la ciutat on viu Emily\, una noia òrfena tenallada per la por que només es relaciona amb un llibreter i un jove aprenent d’apotecari que li subministren llibres\, provisions i narcòtics. Confinada voluntàriament a casa des de la mort de la mare\, Emily cova la ferma convicció que la Mort espera pacient al llindar l’oportunitat d’entrar-hi. Té la certesa que\, en qualsevol moment\, la boca de l’infern pot obrir-se i engolir-la. \nA través d’uns personatges magnètics i d’un univers inquietant i hipnòtic\, Anna Moner ens revela els mecanismes interns que mouen l’autoproclamat Minotaure a cometre un seguit de crims esgarrifosos inspirats en la recreació de retrats femenins renaixentistes. \n  \n \n(Amsterdam)
URL:https://octubre.cat/activitat/presentacio-del-llibre-la-por-de-la-bestia-danna-moner/
LOCATION:Llibreria Fan Set
CATEGORIES:Literatura
ATTACH;FMTTYPE=image/jpeg:https://octubre.cat/www/wp-content/uploads/2023/11/anna_moner-Hor.jpg
END:VEVENT
END:VCALENDAR