BEGIN:VCALENDAR
VERSION:2.0
PRODID:-//Octubre Centre de Cultura Contemporània - ECPv5.1.6//NONSGML v1.0//EN
CALSCALE:GREGORIAN
METHOD:PUBLISH
X-WR-CALNAME:Octubre Centre de Cultura Contemporània
X-ORIGINAL-URL:https://octubre.cat
X-WR-CALDESC:Events for Octubre Centre de Cultura Contemporània
BEGIN:VTIMEZONE
TZID:Europe/Andorra
BEGIN:DAYLIGHT
TZOFFSETFROM:+0100
TZOFFSETTO:+0200
TZNAME:CEST
DTSTART:20150329T010000
END:DAYLIGHT
BEGIN:STANDARD
TZOFFSETFROM:+0200
TZOFFSETTO:+0100
TZNAME:CET
DTSTART:20151025T010000
END:STANDARD
END:VTIMEZONE
BEGIN:VEVENT
DTSTART;TZID=Europe/Andorra:20151112T190000
DTEND;TZID=Europe/Andorra:20151112T190000
DTSTAMP:20260422T045129
CREATED:20200729T171356Z
LAST-MODIFIED:20200730T041553Z
UID:10363-1447354800-1447354800@octubre.cat
SUMMARY:Presentació del llibre 'La nació dels valencians'\, de Joan F. Mira
DESCRIPTION:Dijous 12 de novembre a les 19.00h. Presentació de la nova edició i debat amb l’autor\, Enric Morera i Vicent Sanchis.  \n  \n  \n\n Nova edició (Pòrtic)  Presentació del llibre i debat amb: —Enric Morera\, president de les Corts Valencianes —Vicent Sanchis\, director d’El Temps —Joan F. Mira\, escriptor\, president d’ACPV i autor de l’obra   “No és fàcil\, ni confortable\, viure en un país d’identitat confusa\, de nom incert i de destins abocats a una mena o altra de subalternitat i de desintegració… En un país com el valencià\, la reflexió (i si pot ser l’acord) sobre el “ser” i el “no ser”\, no és un luxe acadèmic: és la condició necessària per existir com a societat\, com a poble responsable del seu propi futur entre els altres pobles. Joan F. Mira revisa a fons i actualitza l’assaig publicat el 1997\, que va incomodar blavers i fusterians amb una anàlisi lúcida de la societat valenciana acual i una visió gens idealitzada.”
URL:https://octubre.cat/activitat/presentacio-del-llibre-la-nacio-dels-valencians-de-joan-f-mira/
LOCATION:Sala d’actes
CATEGORIES:Literatura
ATTACH;FMTTYPE=image/jpeg:https://octubre.cat/www/wp-content/uploads/2020/07/activitat2427.jpg
END:VEVENT
END:VCALENDAR