BEGIN:VCALENDAR
VERSION:2.0
PRODID:-//Octubre Centre de Cultura Contemporània - ECPv5.1.6//NONSGML v1.0//EN
CALSCALE:GREGORIAN
METHOD:PUBLISH
X-WR-CALNAME:Octubre Centre de Cultura Contemporània
X-ORIGINAL-URL:https://octubre.cat
X-WR-CALDESC:Events for Octubre Centre de Cultura Contemporània
BEGIN:VTIMEZONE
TZID:Europe/Andorra
BEGIN:DAYLIGHT
TZOFFSETFROM:+0100
TZOFFSETTO:+0200
TZNAME:CEST
DTSTART:20200329T010000
END:DAYLIGHT
BEGIN:STANDARD
TZOFFSETFROM:+0200
TZOFFSETTO:+0100
TZNAME:CET
DTSTART:20201025T010000
END:STANDARD
END:VTIMEZONE
BEGIN:VEVENT
DTSTART;TZID=Europe/Andorra:20200131T190000
DTEND;TZID=Europe/Andorra:20200131T190000
DTSTAMP:20260421T072608
CREATED:20200729T191340Z
LAST-MODIFIED:20200729T191340Z
UID:13690-1580497200-1580497200@octubre.cat
SUMMARY:Presentació del llibre "La memòria de l'Oracle"\, de Pere Joan Martorell
DESCRIPTION:Divendres 31 de gener a les 19.00h. Premi Mallorca de Narrativa 2017. Amb Xavier Aliaga i amb Eva Llorenç\, que en llegirà alguns fragments.	 \n  \n  \n\n 	 Premi Mallorca de Narrativa 2017. Amb Xavier Aliaga i amb Eva Llorenç\, que en llegirà alguns fragments.  «El pare va néixer mort.» Així comença aquest relat a mig camí de l’èpica i l’epopeia: la història d’uns éssers marcats per l’estigma i l’absència. Una dona cerca el seu marit desaparegut poc després d’iniciar-se el conflicte que manté el poble enfrontat. Acompanyats de tot un mostrari de personatges tan genuïns com estrafolaris\, els fills bessons Jacob i Jeremies\, la tia i l’oncle\, el jutge i l’ecònom\, el padrí i n’Alba… configuren el mosaic humà i l’espectre psicològic d’aquest dens univers amarat d’esperança. Al llarg de la novel·la\, podem trobar interrogants a l’entorn de conceptes com la pèrdua i la follia\, el dubte i la recerca\, el misteri i la revelació…\, i per parlar-nos-en\, Pere Joan Martorell aconsegueix un exercici líric d’alt voltatge que crea una atmosfera a voltes carregada de culpes i traïcions però també a l’encalç d’anhels i somnis. (Edicions de 1984)
URL:https://octubre.cat/activitat/presentacio-del-llibre-la-memoria-de-loracle-de-pere-joan-martorell/
LOCATION:Llibreria Fan Set
CATEGORIES:Literatura
ATTACH;FMTTYPE=image/jpeg:https://octubre.cat/www/wp-content/uploads/2020/07/activitat3431.jpg
END:VEVENT
END:VCALENDAR