BEGIN:VCALENDAR
VERSION:2.0
PRODID:-//Octubre Centre de Cultura Contemporània - ECPv5.1.6//NONSGML v1.0//EN
CALSCALE:GREGORIAN
METHOD:PUBLISH
X-WR-CALNAME:Octubre Centre de Cultura Contemporània
X-ORIGINAL-URL:https://octubre.cat
X-WR-CALDESC:Events for Octubre Centre de Cultura Contemporània
BEGIN:VTIMEZONE
TZID:Europe/Andorra
BEGIN:DAYLIGHT
TZOFFSETFROM:+0100
TZOFFSETTO:+0200
TZNAME:CEST
DTSTART:20170326T010000
END:DAYLIGHT
BEGIN:STANDARD
TZOFFSETFROM:+0200
TZOFFSETTO:+0100
TZNAME:CET
DTSTART:20171029T010000
END:STANDARD
END:VTIMEZONE
BEGIN:VEVENT
DTSTART;TZID=Europe/Andorra:20171214T190000
DTEND;TZID=Europe/Andorra:20171214T190000
DTSTAMP:20260421T150127
CREATED:20200729T190228Z
LAST-MODIFIED:20200729T190228Z
UID:13295-1513278000-1513278000@octubre.cat
SUMMARY:Presentació del llibre 'La mar en octubre'\, de Jaume Rausell
DESCRIPTION:Dijous 14 de desembre a les 19.00h\, a la llibreria Fan Set.  \n  \n  \n\n A partir dels records de temps molt difícils en la novel·la Els estralls de la memòria; ara és el present\, abans de Trump\, del món que tothom vol entendre: l’Amèrica del Nord. La clau es troba en l’estil i el talent per tractar el racisme i la violència tan consubstancial a la societat d’aquell poble escollit. Els personatges semblen titelles en mans ben perilloses; l’espai és hostil; la vida\, una fugida enfront d’un mur d’adversitats. La pena de mort només és un contingut al voltant del qual giren vides sense gaire sentit. El metge protagonista i la seva filla desfilaran davant de nosaltres\, així com l’home negre condemnat a mort\, el seu confessor d´origen llatí i la mare del reu que desperta un desig de pau per ells. Ni catarsi ni epifania; sí\, espill d’un món imperfecte. Benvinguts a aquest viatge al lloc dels somnis. God bless America!  (Pagès Editors)
URL:https://octubre.cat/activitat/presentacio-del-llibre-la-mar-en-octubre-de-jaume-rausell/
LOCATION:Llibreria Fan Set
CATEGORIES:Literatura
ATTACH;FMTTYPE=image/jpeg:https://octubre.cat/www/wp-content/uploads/2020/07/activitat2934.jpg
END:VEVENT
END:VCALENDAR