BEGIN:VCALENDAR
VERSION:2.0
PRODID:-//Octubre Centre de Cultura Contemporània - ECPv5.1.6//NONSGML v1.0//EN
CALSCALE:GREGORIAN
METHOD:PUBLISH
X-WR-CALNAME:Octubre Centre de Cultura Contemporània
X-ORIGINAL-URL:https://octubre.cat
X-WR-CALDESC:Events for Octubre Centre de Cultura Contemporània
BEGIN:VTIMEZONE
TZID:Europe/Andorra
BEGIN:DAYLIGHT
TZOFFSETFROM:+0100
TZOFFSETTO:+0200
TZNAME:CEST
DTSTART:20170326T010000
END:DAYLIGHT
BEGIN:STANDARD
TZOFFSETFROM:+0200
TZOFFSETTO:+0100
TZNAME:CET
DTSTART:20171029T010000
END:STANDARD
END:VTIMEZONE
BEGIN:VEVENT
DTSTART;TZID=Europe/Andorra:20170322T190000
DTEND;TZID=Europe/Andorra:20170322T190000
DTSTAMP:20260420T160514
CREATED:20200729T172446Z
LAST-MODIFIED:20200729T185755Z
UID:11058-1490209200-1490209200@octubre.cat
SUMMARY:Presentació del llibre 'La llum de les estrelles mortes'\, de Josep Manel Vidal
DESCRIPTION:Dimecres 22 de març a les 19.00h\, a la llibreria Fan Set. Amb l’autor acompanyat per Núria Sendra.  \n  \n  \n\n Premi Soler i Estruch 2016 (Bullent). amb l’autor acompanyat de Núria Sendra.  “Som com la llum de les estrelles mortes\, un miratge que només sosté la distància”.  Què podria moure’ns a canviar el nostre destí més fatídic? Pot la vida copiar-se al dictat d’una ficció? Com viuríem si descobrírem que el somni és la realitat de la qual despertem? La llum de les estrelles mortes és un conjunt d’històries on l’autor distorsiona\, de vegades de manera subtil\, allò que anomenem quotidià i previsible: una societat que camina organitzada envers la mort\, un autobús que no va enlloc\, una fissura que fa desaparèixer els objectes\, la por d’un escriptor que invoca ficcions amb la literatura… Potser no donen raó d’allò inexplicable\, però sí exigeixen una pregunta que ens obliga a redirigir la mirada sobre qüestions que pensàvem definitivament contestades.
URL:https://octubre.cat/activitat/presentacio-del-llibre-la-llum-de-les-estrelles-mortes-de-josep-manel-vidal/
LOCATION:Llibreria Fan Set
CATEGORIES:Literatura
ATTACH;FMTTYPE=image/jpeg:https://octubre.cat/www/wp-content/uploads/2020/07/activitat2788.jpg
END:VEVENT
END:VCALENDAR