BEGIN:VCALENDAR
VERSION:2.0
PRODID:-//Octubre Centre de Cultura Contemporània - ECPv5.1.6//NONSGML v1.0//EN
CALSCALE:GREGORIAN
METHOD:PUBLISH
X-WR-CALNAME:Octubre Centre de Cultura Contemporània
X-ORIGINAL-URL:https://octubre.cat
X-WR-CALDESC:Events for Octubre Centre de Cultura Contemporània
BEGIN:VTIMEZONE
TZID:Europe/Andorra
BEGIN:DAYLIGHT
TZOFFSETFROM:+0100
TZOFFSETTO:+0200
TZNAME:CEST
DTSTART:20250330T010000
END:DAYLIGHT
BEGIN:STANDARD
TZOFFSETFROM:+0200
TZOFFSETTO:+0100
TZNAME:CET
DTSTART:20251026T010000
END:STANDARD
END:VTIMEZONE
BEGIN:VEVENT
DTSTART;TZID=Europe/Andorra:20251016T193000
DTEND;TZID=Europe/Andorra:20251016T193000
DTSTAMP:20260420T160606
CREATED:20251002T151655Z
LAST-MODIFIED:20251002T151655Z
UID:23738-1760643000-1760643000@octubre.cat
SUMMARY:Presentació del llibre La llavor en la fosca\, de Josep J. Conill
DESCRIPTION:Amb l’autor acompanyat pel poeta Manel Rodríguez-Castelló. \nUn llibre de poemes sobre les adversitats inherents a la condició humana\, en forma d’imitacions de la vida\, en sis seccions. Germina en l’enigma de l’expressió com un despertar al malson de la interioritat\, arrela esperonat per l’exaltació de l’amor i el sexe\, i brosta\, ple de lucidesa\, en una indagació de l’absurda estultícia de no poques relacions personals\, abocades a la decadència i la mort. El sentiment de la caducitat de la pròpia existència s’hi veu anticipat de manera punyent per la defunció de familiars\, un trànsit que culmina\, sota el signe de la mort de Déu\, en la irrupció de la història i un al·legat final contra la barbàrie dels temps actuals. \n  \n \n(Salze)
URL:https://octubre.cat/activitat/presentacio-del-llibre-la-llavor-en-la-fosca-de-josep-j-conill/
LOCATION:Llibreria Fan Set
CATEGORIES:Literatura
ATTACH;FMTTYPE=image/jpeg:https://octubre.cat/www/wp-content/uploads/2025/10/josep-conill.jpg
END:VEVENT
END:VCALENDAR