BEGIN:VCALENDAR
VERSION:2.0
PRODID:-//Octubre Centre de Cultura Contemporània - ECPv5.1.6//NONSGML v1.0//EN
CALSCALE:GREGORIAN
METHOD:PUBLISH
X-WR-CALNAME:Octubre Centre de Cultura Contemporània
X-ORIGINAL-URL:https://octubre.cat
X-WR-CALDESC:Events for Octubre Centre de Cultura Contemporània
BEGIN:VTIMEZONE
TZID:Europe/Andorra
BEGIN:DAYLIGHT
TZOFFSETFROM:+0100
TZOFFSETTO:+0200
TZNAME:CEST
DTSTART:20170326T010000
END:DAYLIGHT
BEGIN:STANDARD
TZOFFSETFROM:+0200
TZOFFSETTO:+0100
TZNAME:CET
DTSTART:20171029T010000
END:STANDARD
END:VTIMEZONE
BEGIN:VEVENT
DTSTART;TZID=Europe/Andorra:20170726T190000
DTEND;TZID=Europe/Andorra:20170726T190000
DTSTAMP:20260421T120157
CREATED:20200729T172648Z
LAST-MODIFIED:20200729T185854Z
UID:11191-1501095600-1501095600@octubre.cat
SUMMARY:Presentació del llibre 'La izquierda ante el colapso de la civilización industrial'\, de Manuel Casal Lodeiro
DESCRIPTION:Dimecres 26 de juliol a les 19.00h i a la llibreria Fan Set. Amb l’autor i Julio García Camarero.  \n  \n  \n\n La presentació anirà a càrrec de Julio García Camarero.  Col·laboren: – AMA – Soluciones al cambio climático – Torrent Soterranya – La Ribera en Bici / Ecologistes en Acció – DESEEEA  Aquest assaig sosté que les pretensions de les esquerres polítiques i socials majoritàries són inviables en un context de col·lapse de la civilització que és irremeiable. Només uns pocs moviments\, encara molt minoritaris\, són conscients d’aquest rumb suïcida del que ens ve alertant la ciència cada vegada amb més urgència. Tenim ja molt poc de temps per evitar un col·lapse catastròfic. Aquest llibre es una crida urgent per a la conversió de les esquerres en una força que contribuesca a un desenllaç alternatiu d’aquest declivi brusc\, en una força capaç d’emprendre la defensa d’un nou model de civilització molt més simple\, més local i més just. (La Oveja Roja)
URL:https://octubre.cat/activitat/presentacio-del-llibre-la-izquierda-ante-el-colapso-de-la-civilizacion-industrial-de-manuel-casal-lodeiro/
LOCATION:Llibreria Fan Set
CATEGORIES:Literatura
ATTACH;FMTTYPE=image/jpeg:https://octubre.cat/www/wp-content/uploads/2020/07/activitat2860.jpg
END:VEVENT
END:VCALENDAR