BEGIN:VCALENDAR
VERSION:2.0
PRODID:-//Octubre Centre de Cultura Contemporània - ECPv5.1.6//NONSGML v1.0//EN
CALSCALE:GREGORIAN
METHOD:PUBLISH
X-WR-CALNAME:Octubre Centre de Cultura Contemporània
X-ORIGINAL-URL:https://octubre.cat
X-WR-CALDESC:Events for Octubre Centre de Cultura Contemporània
BEGIN:VTIMEZONE
TZID:Europe/Andorra
BEGIN:DAYLIGHT
TZOFFSETFROM:+0100
TZOFFSETTO:+0200
TZNAME:CEST
DTSTART:20220327T010000
END:DAYLIGHT
BEGIN:STANDARD
TZOFFSETFROM:+0200
TZOFFSETTO:+0100
TZNAME:CET
DTSTART:20221030T010000
END:STANDARD
END:VTIMEZONE
BEGIN:VEVENT
DTSTART;TZID=Europe/Andorra:20220406T190000
DTEND;TZID=Europe/Andorra:20220406T190000
DTSTAMP:20260420T190838
CREATED:20220222T183615Z
LAST-MODIFIED:20250625T092037Z
UID:17914-1649271600-1649271600@octubre.cat
SUMMARY:Presentació del llibre La inquietud\, de Lourdes Toledo
DESCRIPTION:Dietari 2018-2019 \nAmb l’autora acompanyada per Martí Domínguez. \nEscriure un dietari ens permet retratar un moment vital\, però també capbussar-nos en la memòria\, en “l’eco que continua reverberant quan el so ja s’ha perdut”. Si el so es perd en la distància\, la memòria l’amplia i el modifica. En aquesta ocasió el so és el retorn: tornar a casa després d’anys d’absències i trobar-hi novament les peces per a reconstruir allò que hi vam deixar. No som els mateixos\, la ciutat i els amics han canviat\, jo també. Hi ha rostres del passat que a poc a poc recupere\, llocs\, paisatges\, vivències\, tot un mosaic de composició complexa al qual se li han remogut moltes tessel·les. Cal anar ajustant-les amb paciència i comprensió. La inquietud\, paraula que dona títol al llibre\, vol dir desassossec o neguit\, incertesa\, però també curiositat\, deler de conèixer\, guspira de viure. \n  \n \n(Pagès Editor)\n[foto Jesús Ciscar]
URL:https://octubre.cat/activitat/presentacio-del-llibre-la-inquietud-de-lourdes-toledo/
LOCATION:Llibreria Fan Set
CATEGORIES:Literatura
ATTACH;FMTTYPE=image/jpeg:https://octubre.cat/www/wp-content/uploads/2022/02/lourdes-toledo.-jesus-ciscar.jpg
END:VEVENT
END:VCALENDAR