BEGIN:VCALENDAR
VERSION:2.0
PRODID:-//Octubre Centre de Cultura Contemporània - ECPv5.1.6//NONSGML v1.0//EN
CALSCALE:GREGORIAN
METHOD:PUBLISH
X-WR-CALNAME:Octubre Centre de Cultura Contemporània
X-ORIGINAL-URL:https://octubre.cat
X-WR-CALDESC:Events for Octubre Centre de Cultura Contemporània
BEGIN:VTIMEZONE
TZID:Europe/Andorra
BEGIN:DAYLIGHT
TZOFFSETFROM:+0100
TZOFFSETTO:+0200
TZNAME:CEST
DTSTART:20150329T010000
END:DAYLIGHT
BEGIN:STANDARD
TZOFFSETFROM:+0200
TZOFFSETTO:+0100
TZNAME:CET
DTSTART:20151025T010000
END:STANDARD
END:VTIMEZONE
BEGIN:VEVENT
DTSTART;TZID=Europe/Andorra:20150218T190000
DTEND;TZID=Europe/Andorra:20150218T190000
DTSTAMP:20260421T195403
CREATED:20200729T170905Z
LAST-MODIFIED:20200730T041348Z
UID:10054-1424286000-1424286000@octubre.cat
SUMMARY:Presentació del llibre 'La fraseologia'\, de M. Conca i J. Guia
DESCRIPTION:Dimecres 18 de febrer a les 19.00h. Amb els autors i amb Gonçal López i Josep Guzman  \n  \n  \n\n  La fraseologia. Principis\, mètode i aplicacions  de Maria Conca i Josep Guia (Edicions Bromera).  En la presentació es comptarà amb els autors i amb Gonçal López\, director literari de Bromera\, i Josep Guzman\, director de la col·lecció “Essencial” (IIFV).  El llibre pretén introduir el lector en la fraseologia –disciplina lingüística que estudia les unitats fràsiques\, des de les col·locacions a  les parèmies\, així com les unitats estilístiques– i animar-lo a ser-ne addicte: en les converses\, lectures i recerques. A tal efecte\,  proporciona els coneixements bàsics de la teoria\, descriu el mètode que cal observar i informa dels principals camps d’aplicació. És  un manual de fàcil lectura\, innovador\, amb molts exemples que ajuden a una millor comprensió del text.   Maria Conca\, doctora en filologia (1994)\, i Josep Guia\, doctor en matemàtiques (1974) i en filologia (2008)\, amb una llarga trajectòria  docent i investigadora a la Universitat de València\, han publicat\, entre altres treballs\, els llibres «Paremiologia» (1987)\, «Els refranys  catalans» (1988)\, «Els primers reculls de proverbis catalans» (1996)\, «Fraseologia i estil. Enigmes literaris a la València del segle XV»  (1999) i «Ficció i realitat a l’Espill. Una perspectiva fraseològica i documental» (2010).
URL:https://octubre.cat/activitat/presentacio-del-llibre-la-fraseologia-de-m-conca-i-j-guia/
LOCATION:Llibreria 3i4
CATEGORIES:Literatura
ATTACH;FMTTYPE=image/jpeg:https://octubre.cat/www/wp-content/uploads/2020/07/activitat2255.jpg
END:VEVENT
END:VCALENDAR