BEGIN:VCALENDAR
VERSION:2.0
PRODID:-//Octubre Centre de Cultura Contemporània - ECPv5.1.6//NONSGML v1.0//EN
CALSCALE:GREGORIAN
METHOD:PUBLISH
X-WR-CALNAME:Octubre Centre de Cultura Contemporània
X-ORIGINAL-URL:https://octubre.cat
X-WR-CALDESC:Events for Octubre Centre de Cultura Contemporània
BEGIN:VTIMEZONE
TZID:Europe/Andorra
BEGIN:DAYLIGHT
TZOFFSETFROM:+0100
TZOFFSETTO:+0200
TZNAME:CEST
DTSTART:20190331T010000
END:DAYLIGHT
BEGIN:STANDARD
TZOFFSETFROM:+0200
TZOFFSETTO:+0100
TZNAME:CET
DTSTART:20191027T010000
END:STANDARD
END:VTIMEZONE
BEGIN:VEVENT
DTSTART;TZID=Europe/Andorra:20191018T190000
DTEND;TZID=Europe/Andorra:20191018T190000
DTSTAMP:20260420T154831
CREATED:20200729T173527Z
LAST-MODIFIED:20200729T191235Z
UID:11527-1571425200-1571425200@octubre.cat
SUMMARY:Presentació del llibre "La farmacia del gueto de Cracovia"\, de Tadeusz Pankiewicz
DESCRIPTION:Divendres 18 d’octubre a les 19.00h. Amb Ramón Sentis Durán\, Enrique de Villamor\, Fernando Garrido Baixauli\, José Manuel Antón\, Francesc Cerdà i Enrique Giménez.	 \n  \n  \n\n 	 Intervindran: —Ramón Sentis Durán\, cònsol de la República de Polònia a València —Enrique de Villamor\, president d’APTCE i editor del llibre —Fernando Garrido Baixauli\, traductor\, responsable de l’aparell crític i coautor de l’estudi introductori —José Manuel Antón\, Francesc Cerdà i Enrique Giménez\, coautors de l’estudi introductori.  Tadeusz Pankiewicz (1908-1993)\, farmacèutic polonès i catòlic\, fou l’únic resident no jueu del gueto de Cracòvia\, testimoni de les atrocitats comeses per les tropes d’ocupació nazis i els seus col·laboradors sobre la població jueva allí confinada. Aprofitant la seua condició\, Pankiewicz i els personal de la seua farmàcia salvaren milers de vides\, amagant persones perseguides\, aconseguint-los salconduits\, introduint aliments i premsa clandestina i expedint medicaments de forma altruista. El 1948 publicà les seues memòries i el 1983 va ser reconegut Just entre les Nacions.
URL:https://octubre.cat/activitat/presentacio-del-llibre-la-farmacia-del-gueto-de-cracovia-de-tadeusz-pankiewicz/
CATEGORIES:Literatura
ATTACH;FMTTYPE=image/jpeg:https://octubre.cat/www/wp-content/uploads/2020/07/activitat3351.jpg
END:VEVENT
END:VCALENDAR