BEGIN:VCALENDAR
VERSION:2.0
PRODID:-//Octubre Centre de Cultura Contemporània - ECPv5.1.6//NONSGML v1.0//EN
CALSCALE:GREGORIAN
METHOD:PUBLISH
X-WR-CALNAME:Octubre Centre de Cultura Contemporània
X-ORIGINAL-URL:https://octubre.cat
X-WR-CALDESC:Events for Octubre Centre de Cultura Contemporània
BEGIN:VTIMEZONE
TZID:Europe/Andorra
BEGIN:DAYLIGHT
TZOFFSETFROM:+0100
TZOFFSETTO:+0200
TZNAME:CEST
DTSTART:20140330T010000
END:DAYLIGHT
BEGIN:STANDARD
TZOFFSETFROM:+0200
TZOFFSETTO:+0100
TZNAME:CET
DTSTART:20141026T010000
END:STANDARD
END:VTIMEZONE
BEGIN:VEVENT
DTSTART;TZID=Europe/Andorra:20140415T190000
DTEND;TZID=Europe/Andorra:20140415T190000
DTSTAMP:20260421T041856
CREATED:20200729T170426Z
LAST-MODIFIED:20200730T041113Z
UID:9753-1397588400-1397588400@octubre.cat
SUMMARY:Presentació del llibre 'La cinquena planta'\, de Manuel Baixauli
DESCRIPTION:Dimarts 15 d’abril a les 19.00h. Amb l’autor i Abel Guarinos  \n  \n  \n\n(Editorial Proa)  La presentació anirà a càrrec de l’autor\, acompanyat per Abel Guarinos\, director de la Mostra Internacional de Mim de Sueca  Sinopsi: Una setmana després d’haver enllestit un llibre titulat L’home manuscrit\, Manuel Baixauli va sentir els primers símptomes d’una malaltia que el va deixar\, en pocs dies\, completament paralitzat\, talment una pedra. Una pedra amb tota la capacitat de pensar i de sentir. Al cap de sis llarguíssimes setmanes\, va començar a recuperar la mobilitat i\, més endavant\, l’autonomia. Durant el procés de rehabilitació\, Baixauli va conèixer els singulars personatges que poblaven el sanatori i es va obsessionar amb l’última\, inaccessible\, cinquena planta.
URL:https://octubre.cat/activitat/presentacio-del-llibre-la-cinquena-planta-de-manuel-baixauli/
LOCATION:Llibreria 3i4
CATEGORIES:Literatura
ATTACH;FMTTYPE=image/jpeg:https://octubre.cat/www/wp-content/uploads/2020/07/activitat2049.jpg
END:VEVENT
END:VCALENDAR