BEGIN:VCALENDAR
VERSION:2.0
PRODID:-//Octubre Centre de Cultura Contemporània - ECPv5.1.6//NONSGML v1.0//EN
CALSCALE:GREGORIAN
METHOD:PUBLISH
X-WR-CALNAME:Octubre Centre de Cultura Contemporània
X-ORIGINAL-URL:https://octubre.cat
X-WR-CALDESC:Events for Octubre Centre de Cultura Contemporània
BEGIN:VTIMEZONE
TZID:Europe/Andorra
BEGIN:DAYLIGHT
TZOFFSETFROM:+0100
TZOFFSETTO:+0200
TZNAME:CEST
DTSTART:20080330T010000
END:DAYLIGHT
BEGIN:STANDARD
TZOFFSETFROM:+0200
TZOFFSETTO:+0100
TZNAME:CET
DTSTART:20081026T010000
END:STANDARD
END:VTIMEZONE
BEGIN:VEVENT
DTSTART;TZID=Europe/Andorra:20080514T193000
DTEND;TZID=Europe/Andorra:20080514T193000
DTSTAMP:20260420T210117
CREATED:20200729T181848Z
LAST-MODIFIED:20200730T035729Z
UID:12566-1210793400-1210793400@octubre.cat
SUMMARY:Presentació del llibre 'La batalla d'Almansa'\, de David Garrido
DESCRIPTION:Presentació del llibre La batalla d’Almansa (Rafael Dalmau Editor)\, de David Garrido
URL:https://octubre.cat/activitat/presentacio-del-llibre-la-batalla-dalmansa-de-david-garrido/
LOCATION:No definit
CATEGORIES:Literatura
ATTACH;FMTTYPE=image/jpeg:https://octubre.cat/www/wp-content/uploads/2020/07/presentacions1.jpg
END:VEVENT
END:VCALENDAR