BEGIN:VCALENDAR
VERSION:2.0
PRODID:-//Octubre Centre de Cultura Contemporània - ECPv5.1.6//NONSGML v1.0//EN
CALSCALE:GREGORIAN
METHOD:PUBLISH
X-WR-CALNAME:Octubre Centre de Cultura Contemporània
X-ORIGINAL-URL:https://octubre.cat
X-WR-CALDESC:Events for Octubre Centre de Cultura Contemporània
BEGIN:VTIMEZONE
TZID:Europe/Andorra
BEGIN:DAYLIGHT
TZOFFSETFROM:+0100
TZOFFSETTO:+0200
TZNAME:CEST
DTSTART:20250330T010000
END:DAYLIGHT
BEGIN:STANDARD
TZOFFSETFROM:+0200
TZOFFSETTO:+0100
TZNAME:CET
DTSTART:20251026T010000
END:STANDARD
END:VTIMEZONE
BEGIN:VEVENT
DTSTART;TZID=Europe/Andorra:20251003T190000
DTEND;TZID=Europe/Andorra:20251003T190000
DTSTAMP:20260420T133210
CREATED:20250629T152115Z
LAST-MODIFIED:20251003T172326Z
UID:23164-1759518000-1759518000@octubre.cat
SUMMARY:Presentació del llibre Kraftwerk: la máquina humana\, de Pablo Ferrer
DESCRIPTION:Amb l’autor acompanyat per Manuel Pinazo (editor i director de Muzikalia) i Nacho Marco (productor i dj). \nKraftwerk és la banda més influent de la història de la música electrònica. Pioners del gènere\, el seu laboratori Kling Klang va donar lloc a obres essencials com Autobahn\, Trans Europa Express o Computerwelt\, establint les bases de l’electro\, el techno\, el hip hop o el synthpop\, i influint en artistes tan diversos com Björk\, Daft Punk\, Bowie\, Depeche Mode o Joy Division. El seu impacte transcendeix el musical i arriba a l’art d’avantguarda\, cosa que explica el trànsit natural de l’escenari al museu. Aquest llibre —la primera biografia completa en castellà— intenta fer llum sobre una de les formacions més enigmàtiques de la música popular i apropar-ne el llegat a les noves generacions. \n  \n \n(Muzikalia)
URL:https://octubre.cat/activitat/presentacio-del-llibre-kraftwerk-la-maquina-humana-de-pablo-ferrer/
LOCATION:Aula 1
CATEGORIES:Literatura,Música
ATTACH;FMTTYPE=image/jpeg:https://octubre.cat/www/wp-content/uploads/2022/02/Pablo-Ferrer-Santisima-Trinidad-Shangay-940x940-1.jpg
END:VEVENT
END:VCALENDAR