BEGIN:VCALENDAR
VERSION:2.0
PRODID:-//Octubre Centre de Cultura Contemporània - ECPv5.1.6//NONSGML v1.0//EN
CALSCALE:GREGORIAN
METHOD:PUBLISH
X-WR-CALNAME:Octubre Centre de Cultura Contemporània
X-ORIGINAL-URL:https://octubre.cat
X-WR-CALDESC:Events for Octubre Centre de Cultura Contemporània
BEGIN:VTIMEZONE
TZID:Europe/Andorra
BEGIN:DAYLIGHT
TZOFFSETFROM:+0100
TZOFFSETTO:+0200
TZNAME:CEST
DTSTART:20210328T010000
END:DAYLIGHT
BEGIN:STANDARD
TZOFFSETFROM:+0200
TZOFFSETTO:+0100
TZNAME:CET
DTSTART:20211031T010000
END:STANDARD
END:VTIMEZONE
BEGIN:VEVENT
DTSTART;TZID=Europe/Andorra:20211130T190000
DTEND;TZID=Europe/Andorra:20211130T190000
DTSTAMP:20260422T175040
CREATED:20211013T091333Z
LAST-MODIFIED:20211013T091433Z
UID:17058-1638298800-1638298800@octubre.cat
SUMMARY:Presentació del llibre Junil a les terres dels bàrbars\, de Joan-Lluís Lluís
DESCRIPTION:Amb Junil a les terres dels bàrbars\, Joan-Lluís Lluís entra al Club dels Novel·listes: una gran novel·la d’aventures\, un viatge per l’Imperi romà en què la poesia\, la llengua i la traducció són el motor de l’acció.\n“Una vegada hi havia un home que menyspreava la seva filla.” Amb començament de rondalla apareix l’heroïna d’aquesta història\, anomenada Junil. Encola papirs a la llibreria del pare i aprèn a llegir a l’ombra del seu menyspreu. Però mort el pare\, morta la ràbia —i és la filla qui ha concebut l’arma del crim.\nFuig a peu amb tres esclaus. El temps és el principi de l’era cristiana; el lloc\, una marca de l’Imperi romà. Travessen la frontera i aprenen a anar a palpes pel món\, on els déus i les llengües varien. Què diuen els estranys amb qui topen? Què volen? A mesura que avancen\, l’afany de caminar eclipsa la por i s’encomana a d’altres fugitius. \n \n(Club Editor)
URL:https://octubre.cat/activitat/presentacio-del-llibre-junil-a-la-terra-dels-barbars-de-joan-lluis-lluis/
LOCATION:Llibreria Fan Set
CATEGORIES:Literatura
ATTACH;FMTTYPE=image/jpeg:https://octubre.cat/www/wp-content/uploads/2021/10/lluis-joan-lluis.jpg
END:VEVENT
END:VCALENDAR