BEGIN:VCALENDAR
VERSION:2.0
PRODID:-//Octubre Centre de Cultura Contemporània - ECPv5.1.6//NONSGML v1.0//EN
CALSCALE:GREGORIAN
METHOD:PUBLISH
X-WR-CALNAME:Octubre Centre de Cultura Contemporània
X-ORIGINAL-URL:https://octubre.cat
X-WR-CALDESC:Events for Octubre Centre de Cultura Contemporània
BEGIN:VTIMEZONE
TZID:Europe/Andorra
BEGIN:DAYLIGHT
TZOFFSETFROM:+0100
TZOFFSETTO:+0200
TZNAME:CEST
DTSTART:20140330T010000
END:DAYLIGHT
BEGIN:STANDARD
TZOFFSETFROM:+0200
TZOFFSETTO:+0100
TZNAME:CET
DTSTART:20141026T010000
END:STANDARD
END:VTIMEZONE
BEGIN:VEVENT
DTSTART;TZID=Europe/Andorra:20140123T190000
DTEND;TZID=Europe/Andorra:20140123T190000
DTSTAMP:20260422T001924
CREATED:20200729T170314Z
LAST-MODIFIED:20200729T184331Z
UID:9684-1390503600-1390503600@octubre.cat
SUMMARY:Presentació del llibre 'Joan Isaac. Bandera negra al cor'
DESCRIPTION:Dijous 23 de gener a les 19.00h. A càrrec de Joan Isaac i Rafa Xambó  \n  \n  \n\n Presentació del llibre Joan Isaac. Bandera negra al cor\, de Luis Garcia Gil\, (Editorial Milenio)  Presenten: Joan Isaac i Rafa Xambó
URL:https://octubre.cat/activitat/presentacio-del-llibre-joan-isaac-bandera-negra-al-cor/
LOCATION:Llibreria 3i4
CATEGORIES:Literatura
ATTACH;FMTTYPE=image/jpeg:https://octubre.cat/www/wp-content/uploads/2020/07/activitat1976.jpg
END:VEVENT
END:VCALENDAR