BEGIN:VCALENDAR
VERSION:2.0
PRODID:-//Octubre Centre de Cultura Contemporània - ECPv5.1.6//NONSGML v1.0//EN
CALSCALE:GREGORIAN
METHOD:PUBLISH
X-WR-CALNAME:Octubre Centre de Cultura Contemporània
X-ORIGINAL-URL:https://octubre.cat
X-WR-CALDESC:Events for Octubre Centre de Cultura Contemporània
BEGIN:VTIMEZONE
TZID:Europe/Andorra
BEGIN:DAYLIGHT
TZOFFSETFROM:+0100
TZOFFSETTO:+0200
TZNAME:CEST
DTSTART:20150329T010000
END:DAYLIGHT
BEGIN:STANDARD
TZOFFSETFROM:+0200
TZOFFSETTO:+0100
TZNAME:CET
DTSTART:20151025T010000
END:STANDARD
END:VTIMEZONE
BEGIN:VEVENT
DTSTART;TZID=Europe/Andorra:20150610T190000
DTEND;TZID=Europe/Andorra:20150610T190000
DTSTAMP:20260421T195344
CREATED:20200729T171135Z
LAST-MODIFIED:20200730T041455Z
UID:10216-1433962800-1433962800@octubre.cat
SUMMARY:Presentació del llibre 'Joan Climent\, poeta'\, d'Ignasi Mora
DESCRIPTION:Dimecres 10 de juny a les 19.00h. Amb l’autor i Maria Josep Escrivà.  \n  \n  \n\n Un supervivent del segle XX (Edicions 96)  Amb l’autor i Maria Josep Escrivà.  Joan Climent va travessar el segle xx de cap a cap i va viure una etapa històrica de grans canvis que va plantejar proves molt dures a l’escriptor de la Vall d’Albaida. Tanmateix\, Joan continuà el seu camí\, el cos i la ment sencers fins a l’últim instant. Per això\, per aquesta lliçó de vida\, va nàixer el títol d’aquest volum: Joan Climent\, poeta. Un supervivent del segle xx.  L’escriptor i periodista Ignasi Mora va tenir una relació d’amistat molt pròxima amb el poeta Joan Climent. De les hores i hores de converses que mantingueren\, i del filtre necessari d’una peculiar mirada d’escriptor\, naix aquest llibre que combina diverses veus i diversos llenguatges.
URL:https://octubre.cat/activitat/presentacio-del-llibre-joan-climent-poeta-dignasi-mora/
LOCATION:Llibreria 3i4
CATEGORIES:Literatura
ATTACH;FMTTYPE=image/jpeg:https://octubre.cat/www/wp-content/uploads/2020/07/activitat2347.jpg
END:VEVENT
END:VCALENDAR