BEGIN:VCALENDAR
VERSION:2.0
PRODID:-//Octubre Centre de Cultura Contemporània - ECPv5.1.6//NONSGML v1.0//EN
CALSCALE:GREGORIAN
METHOD:PUBLISH
X-WR-CALNAME:Octubre Centre de Cultura Contemporània
X-ORIGINAL-URL:https://octubre.cat
X-WR-CALDESC:Events for Octubre Centre de Cultura Contemporània
BEGIN:VTIMEZONE
TZID:Europe/Andorra
BEGIN:DAYLIGHT
TZOFFSETFROM:+0100
TZOFFSETTO:+0200
TZNAME:CEST
DTSTART:20200329T010000
END:DAYLIGHT
BEGIN:STANDARD
TZOFFSETFROM:+0200
TZOFFSETTO:+0100
TZNAME:CET
DTSTART:20201025T010000
END:STANDARD
END:VTIMEZONE
BEGIN:VEVENT
DTSTART;TZID=Europe/Andorra:20200210T190000
DTEND;TZID=Europe/Andorra:20200210T190000
DTSTAMP:20260421T054807
CREATED:20200729T191350Z
LAST-MODIFIED:20200729T191350Z
UID:13700-1581361200-1581361200@octubre.cat
SUMMARY:Presentació del llibre "Jo sóc vosaltres. Sis poetes de Síria"
DESCRIPTION:Dilluns 10 de febrer a les 19.00h. Conversa “El que queda en els calaixos de l’emigrant” amb Mohamad Bitari\, Nisrín Akram Khouri\, Margarida Castells\, Amparo Panadero\, Matilde Martínez i Joan Navarro. Acte organitzat pel PEN Català.	 \n  \n  \n\n 	 Conversa “El que queda en els calaixos de l’emigrant”  Amb la participació de Mohamad Bitari (poeta\, traductor\, dramaturg i periodista palestí de Síria)\, Nisrín Akram Khouri (poeta siriana)\, Margarida Castells (filòloga i traductora literària)\, Amparo Panadero (periodista)\, Matilde Martínez (editora) i Joan Navarro (poeta).   Fa anys que el poeta\, dramaturg i traductor palestí de Síria exiliat a Barcelona Mohamad Bitari recopila els textos de sis poetes de Síria amb la voluntat de donar-los a conèixer: Raed Wahesh\, Rasha Omran\, Talal Bu Khadar\, Abdul·lah Al-Hariri\, Nisrín Akram Khouri i Wael Saadeddín. El viatge d’aquestes veus poètiques per fi cristal·litza en un llibre\, Jo sóc vosaltres.  «El que vull remarcar és que la guerra\, la revolució o qualsevol altre context de la nostra obra forma part de la nostra vida\, però no és pas la nostra vida. Tampoc ho és la nostra relació amb el text poètic. Com sigui\, relataré amb paraules més aviat prosaiques com va ser que vaig conèixer cada poeta\, com m’hi vaig relacionar.» (Mohamad Bitari).  (Godall Edicions)  — Acte organitzat pel PEN Català amb la col·laboració de la llibreria Fan Set i l’Octubre CCC.
URL:https://octubre.cat/activitat/presentacio-del-llibre-jo-soc-vosaltres-sis-poetes-de-siria/
LOCATION:Llibreria Fan Set
CATEGORIES:Literatura
ATTACH;FMTTYPE=image/jpeg:https://octubre.cat/www/wp-content/uploads/2020/07/activitat3442.jpg
END:VEVENT
END:VCALENDAR