BEGIN:VCALENDAR
VERSION:2.0
PRODID:-//Octubre Centre de Cultura Contemporània - ECPv5.1.6//NONSGML v1.0//EN
CALSCALE:GREGORIAN
METHOD:PUBLISH
X-WR-CALNAME:Octubre Centre de Cultura Contemporània
X-ORIGINAL-URL:https://octubre.cat
X-WR-CALDESC:Events for Octubre Centre de Cultura Contemporània
BEGIN:VTIMEZONE
TZID:Europe/Andorra
BEGIN:DAYLIGHT
TZOFFSETFROM:+0100
TZOFFSETTO:+0200
TZNAME:CEST
DTSTART:20110327T010000
END:DAYLIGHT
BEGIN:STANDARD
TZOFFSETFROM:+0200
TZOFFSETTO:+0100
TZNAME:CET
DTSTART:20111030T010000
END:STANDARD
END:VTIMEZONE
BEGIN:VEVENT
DTSTART;TZID=Europe/Andorra:20111110T190000
DTEND;TZID=Europe/Andorra:20111110T190000
DTSTAMP:20260422T032538
CREATED:20200729T165615Z
LAST-MODIFIED:20200730T042857Z
UID:9279-1320951600-1320951600@octubre.cat
SUMMARY:Presentació del llibre 'Jo confesso' de Jaume Cabré
DESCRIPTION:Dijous 10 de novembre a les 19.00h: presentació del llibre “Jo confesso” de Jaume Cabré\, amb presència de l’autor.  \n  \n  \n\nJo confesso (edicions Proa) Una magnífica novel·la on hi són presents l’amor\, el desamor\, els sentiments de culpa i el mal. Si la botiga d’antiguitats de la família és tot un univers per al petit Adrià\, el despatx del seu pare és el centre d’aquest univers\, i el tresor més preuat de tots és un magnífic violí del segle XVIII al voltant del qual giren moltes històries d’aquesta novel·la de novel·les. Jo confesso és una llarga carta d’amor d’algú que ha hagut de jugar sol durant molts anys\, entre llibres vells i secrets inconfessats; d’algú que ha estimat de manera incondicional; d’algú que se sent culpable d’una mort violenta\, i d’algú que no entén el mal que recorre la història d’Occident.  Jaume Cabré i Fabré Jaume Cabré (Barcelona\, 1947) ha saltat amb força en el panorama literari internacional d’avui amb la novel·la Les veus del Pamano (2004) i també amb les seves novel·les Fra Junoy o l’agonia dels sons (1984)\, Senyoria (1991) i  L’ombra de l’eunuc (1996) ; també cal destacar el seu recull de contes Viatge d’hivern (2000)\, l’obra de teatre Pluja seca (2001)\, i els dos llibres d’assaig El sentit de la ficció (1999) i La matèria de l’esperit (2005). Ha escrit guions televisius i cinematogràfics. És membre de l’Institut d’Estudis Catalans i Premi d’Honor de les Lletres Catalanes.  La presentació anirà a càrrec de: Eliseu Climent\, president d’Acció Cultural del País Valencià Núria Cadenes\, periodista Francesc Calafat\, crític literari  Jaume Cabré\, autor  Més informació sobre el llibre i el seu vídeo promocional. També es pot descarregar el primer capítol
URL:https://octubre.cat/activitat/presentacio-del-llibre-jo-confesso-de-jaume-cabre/
LOCATION:No definit
CATEGORIES:Literatura
ATTACH;FMTTYPE=image/jpeg:https://octubre.cat/www/wp-content/uploads/2020/07/activitat1511.jpg
END:VEVENT
END:VCALENDAR