BEGIN:VCALENDAR
VERSION:2.0
PRODID:-//Octubre Centre de Cultura Contemporània - ECPv5.1.6//NONSGML v1.0//EN
CALSCALE:GREGORIAN
METHOD:PUBLISH
X-WR-CALNAME:Octubre Centre de Cultura Contemporània
X-ORIGINAL-URL:https://octubre.cat
X-WR-CALDESC:Events for Octubre Centre de Cultura Contemporània
BEGIN:VTIMEZONE
TZID:Europe/Andorra
BEGIN:DAYLIGHT
TZOFFSETFROM:+0100
TZOFFSETTO:+0200
TZNAME:CEST
DTSTART:20180325T010000
END:DAYLIGHT
BEGIN:STANDARD
TZOFFSETFROM:+0200
TZOFFSETTO:+0100
TZNAME:CET
DTSTART:20181028T010000
END:STANDARD
END:VTIMEZONE
BEGIN:VEVENT
DTSTART;TZID=Europe/Andorra:20180126T190000
DTEND;TZID=Europe/Andorra:20180126T190000
DTSTAMP:20260421T172654
CREATED:20200729T190243Z
LAST-MODIFIED:20200729T190243Z
UID:13310-1516993200-1516993200@octubre.cat
SUMMARY:Presentació del llibre 'Insomne vida sonora'\, de Mercè Claramunt
DESCRIPTION:Divendres 26 de gener a les 19.00h i a la llibreria Fan Set.  \n  \n  \n\n Insomne vida sonora està concebut com un edifici amb un jardí lluminós i acolorit\, un espai íntim\, personal\, per a la confessió\, la reflexió\, el diàleg i on regna la paraula però\, també\, els silencis. Un laberint de mots construït per a la trobada\, per a l’encontre i no per a perdre’s infructuosament. La reflexió porta l’autora a sentenciar: «El temps\, insensat\, no és l’espai que passa / que és mor / és vida». I per tant\, afegisc jo\, forma part de nosaltres. Insomne vida sonora és un llibre compacte i intens que ens parla de tot allò que convertix la vida en una navegació de vegades complicada i en altres plena de joia.  Il·lustracions de Leonor Seguí.  (El Petit Editor)
URL:https://octubre.cat/activitat/presentacio-del-llibre-insomne-vida-sonora-de-merce-claramunt/
LOCATION:Llibreria Fan Set
CATEGORIES:Literatura
ATTACH;FMTTYPE=image/jpeg:https://octubre.cat/www/wp-content/uploads/2020/07/activitat2949.jpg
END:VEVENT
END:VCALENDAR