BEGIN:VCALENDAR
VERSION:2.0
PRODID:-//Octubre Centre de Cultura Contemporània - ECPv5.1.6//NONSGML v1.0//EN
CALSCALE:GREGORIAN
METHOD:PUBLISH
X-WR-CALNAME:Octubre Centre de Cultura Contemporània
X-ORIGINAL-URL:https://octubre.cat
X-WR-CALDESC:Events for Octubre Centre de Cultura Contemporània
BEGIN:VTIMEZONE
TZID:Europe/Andorra
BEGIN:DAYLIGHT
TZOFFSETFROM:+0100
TZOFFSETTO:+0200
TZNAME:CEST
DTSTART:20150329T010000
END:DAYLIGHT
BEGIN:STANDARD
TZOFFSETFROM:+0200
TZOFFSETTO:+0100
TZNAME:CET
DTSTART:20151025T010000
END:STANDARD
END:VTIMEZONE
BEGIN:VEVENT
DTSTART;TZID=Europe/Andorra:20151124T190000
DTEND;TZID=Europe/Andorra:20151124T190000
DTSTAMP:20260422T020357
CREATED:20200729T171346Z
LAST-MODIFIED:20200730T041548Z
UID:10352-1448391600-1448391600@octubre.cat
SUMMARY:Presentació del llibre '...i la glòria entreobrí les seues portes'
DESCRIPTION:Dimarts 24 de novembre a les 19.00h. Presentació del llibre …i la glòria entreobrí les seues portes. Martínez Català\, l’home i el futbolista\, de Rafael Escobar. Amb l’autor\, Francesc Ferrer i Núria Cadenes.  \n  \n  \n\n …i la glòria entreobrí les seues portes. Martínez Català\, l’home i el futbolista\, de Rafael Escobar. (Denes)  La presentació comptarà amb l’autor\, Francesc Ferrer i Núria Cadenes.
URL:https://octubre.cat/activitat/presentacio-del-llibre-i-la-gloria-entreobri-les-seues-portes/
LOCATION:Llibreria 3i4
CATEGORIES:Literatura
ATTACH;FMTTYPE=image/jpeg:https://octubre.cat/www/wp-content/uploads/2020/07/activitat2421.jpg
END:VEVENT
END:VCALENDAR